BEGIN:VCALENDAR
VERSION:2.0
PRODID:-//mtk gegen rechts - ECPv6.15.20//NONSGML v1.0//EN
CALSCALE:GREGORIAN
METHOD:PUBLISH
X-WR-CALNAME:mtk gegen rechts
X-ORIGINAL-URL:https://mtk-gegen-rechts.de
X-WR-CALDESC:Veranstaltungen für mtk gegen rechts
REFRESH-INTERVAL;VALUE=DURATION:PT1H
X-Robots-Tag:noindex
X-PUBLISHED-TTL:PT1H
BEGIN:VTIMEZONE
TZID:Europe/Berlin
BEGIN:DAYLIGHT
TZOFFSETFROM:+0100
TZOFFSETTO:+0200
TZNAME:CEST
DTSTART:20230326T010000
END:DAYLIGHT
BEGIN:STANDARD
TZOFFSETFROM:+0200
TZOFFSETTO:+0100
TZNAME:CET
DTSTART:20231029T010000
END:STANDARD
BEGIN:DAYLIGHT
TZOFFSETFROM:+0100
TZOFFSETTO:+0200
TZNAME:CEST
DTSTART:20240331T010000
END:DAYLIGHT
BEGIN:STANDARD
TZOFFSETFROM:+0200
TZOFFSETTO:+0100
TZNAME:CET
DTSTART:20241027T010000
END:STANDARD
BEGIN:DAYLIGHT
TZOFFSETFROM:+0100
TZOFFSETTO:+0200
TZNAME:CEST
DTSTART:20250330T010000
END:DAYLIGHT
BEGIN:STANDARD
TZOFFSETFROM:+0200
TZOFFSETTO:+0100
TZNAME:CET
DTSTART:20251026T010000
END:STANDARD
END:VTIMEZONE
BEGIN:VEVENT
DTSTART;TZID=Europe/Berlin:20241102T130000
DTEND;TZID=Europe/Berlin:20241102T170000
DTSTAMP:20260426T052444
CREATED:20241101T154415Z
LAST-MODIFIED:20241101T164134Z
UID:1029-1730552400-1730566800@mtk-gegen-rechts.de
SUMMARY:Bad Soden: Gemeinsam gegen Hass und Hetze – Stronger together!
DESCRIPTION:Herbstdemo am 2. November 2024 in Bad Soden.\nDie Demo beginnt um 14:00 Uhr (ab 13.30 Uhr ist Aufstellung) am neuen Kurpark und steht ganz im Zeichen der Solidarität und des gemeinsamen Kampfes gegen Hass und Hetze. \n\nUnter dem Motto „Gemeinsam gegen Hass und Hetze! Stronger Together“ möchten wir ein starkes Zeichen setzen und für Vielfalt\, Akzeptanz und Respekt eintreten. In einer Zeit\, in der Intoleranz und Diskriminierung immer präsenter werden\, ist es wichtiger denn je\, unsere Stimmen zu erheben und für eine bunte\, vielfältige Gesellschaft einzutreten. Die Herbstdemo bietet uns die Möglichkeit\, gemeinsam für unsere Werte einzustehen und ein starkes Zeichen gegen alle Formen von Diskriminierung zu setzen.\nhttps://csdmtk.de/herbstdemo/
URL:https://mtk-gegen-rechts.de/event/gemeinsam-gegen-hass-und-hetze-bad-soden/
END:VEVENT
END:VCALENDAR