BEGIN:VCALENDAR
VERSION:2.0
PRODID:-//mtk gegen rechts - ECPv6.15.20//NONSGML v1.0//EN
CALSCALE:GREGORIAN
METHOD:PUBLISH
X-WR-CALNAME:mtk gegen rechts
X-ORIGINAL-URL:https://mtk-gegen-rechts.de
X-WR-CALDESC:Veranstaltungen für mtk gegen rechts
REFRESH-INTERVAL;VALUE=DURATION:PT1H
X-Robots-Tag:noindex
X-PUBLISHED-TTL:PT1H
BEGIN:VTIMEZONE
TZID:Europe/Berlin
BEGIN:DAYLIGHT
TZOFFSETFROM:+0100
TZOFFSETTO:+0200
TZNAME:CEST
DTSTART:20230326T010000
END:DAYLIGHT
BEGIN:STANDARD
TZOFFSETFROM:+0200
TZOFFSETTO:+0100
TZNAME:CET
DTSTART:20231029T010000
END:STANDARD
BEGIN:DAYLIGHT
TZOFFSETFROM:+0100
TZOFFSETTO:+0200
TZNAME:CEST
DTSTART:20240331T010000
END:DAYLIGHT
BEGIN:STANDARD
TZOFFSETFROM:+0200
TZOFFSETTO:+0100
TZNAME:CET
DTSTART:20241027T010000
END:STANDARD
BEGIN:DAYLIGHT
TZOFFSETFROM:+0100
TZOFFSETTO:+0200
TZNAME:CEST
DTSTART:20250330T010000
END:DAYLIGHT
BEGIN:STANDARD
TZOFFSETFROM:+0200
TZOFFSETTO:+0100
TZNAME:CET
DTSTART:20251026T010000
END:STANDARD
END:VTIMEZONE
BEGIN:VEVENT
DTSTART;TZID=Europe/Berlin:20241118T190000
DTEND;TZID=Europe/Berlin:20241118T210000
DTSTAMP:20260425T054008
CREATED:20241103T080057Z
LAST-MODIFIED:20241113T085954Z
UID:1026-1731956400-1731963600@mtk-gegen-rechts.de
SUMMARY:Ziviler Ungehorsam – was ist das?
DESCRIPTION:Einladung zur Veranstaltung zum Thema ziviler Ungehorsam\nam Montag\, 18. November 2024\, ab 19 Uhr im Bürgerhaus Marxheim\, Jugendraum (Eingang auf der Rückseite des Gebäudes) \n \nWie hat ziviler Ungehorsam in gesellschaftlichen Auseinandersetzungen der Bundesrepublik in den letzten 25 Jahren gewirkt? Was für ein Konzept steht hinter zivilem Ungehorsam? Wie wurde ziviler Ungehorsam beim AfD Landesparteitag Anfang September in Hofheim ausgeübt? Wie wird ziviler Ungehorsam künftig bei „widersetzen“\, d.h. bei AfD-Bundesparteitagen eingesetzt? \nDiese Fragen wird der Anmelder der frühmorgendlichen 7.30 Uhr-Demo in Hofheim vom 7. September erörtern\, zusammen mit einer Aktivistin von „widersetzen“. Anschließend ist Gelegenheit zur Diskussion.
URL:https://mtk-gegen-rechts.de/event/ziviler-ungehorsam-was-ist-das/
END:VEVENT
END:VCALENDAR