BEGIN:VCALENDAR
VERSION:2.0
PRODID:-//mtk gegen rechts - ECPv6.15.20//NONSGML v1.0//EN
CALSCALE:GREGORIAN
METHOD:PUBLISH
X-ORIGINAL-URL:https://mtk-gegen-rechts.de
X-WR-CALDESC:Veranstaltungen für mtk gegen rechts
REFRESH-INTERVAL;VALUE=DURATION:PT1H
X-Robots-Tag:noindex
X-PUBLISHED-TTL:PT1H
BEGIN:VTIMEZONE
TZID:Europe/Berlin
BEGIN:DAYLIGHT
TZOFFSETFROM:+0100
TZOFFSETTO:+0200
TZNAME:CEST
DTSTART:20240331T010000
END:DAYLIGHT
BEGIN:STANDARD
TZOFFSETFROM:+0200
TZOFFSETTO:+0100
TZNAME:CET
DTSTART:20241027T010000
END:STANDARD
BEGIN:DAYLIGHT
TZOFFSETFROM:+0100
TZOFFSETTO:+0200
TZNAME:CEST
DTSTART:20250330T010000
END:DAYLIGHT
BEGIN:STANDARD
TZOFFSETFROM:+0200
TZOFFSETTO:+0100
TZNAME:CET
DTSTART:20251026T010000
END:STANDARD
BEGIN:DAYLIGHT
TZOFFSETFROM:+0100
TZOFFSETTO:+0200
TZNAME:CEST
DTSTART:20260329T010000
END:DAYLIGHT
BEGIN:STANDARD
TZOFFSETFROM:+0200
TZOFFSETTO:+0100
TZNAME:CET
DTSTART:20261025T010000
END:STANDARD
END:VTIMEZONE
BEGIN:VEVENT
DTSTART;TZID=Europe/Berlin:20250201T120000
DTEND;TZID=Europe/Berlin:20250201T170000
DTSTAMP:20260424T072644
CREATED:20250123T152049Z
LAST-MODIFIED:20250128T093804Z
UID:1108-1738411200-1738429200@mtk-gegen-rechts.de
SUMMARY:Kundgebungen gegen die AfD in Neu-Isenburg
DESCRIPTION:Protest gegen den Wahlkampf-Auftritt von Alice Weidel in der Hugenottenhalle Neu Isenburg\, am Samstag\, 1. Februar 2025 \nEs sind bisher vier Kundgebungen/Mahnwachen in Neu-Isenburg angemeldet. Ein lokales Bündnis\, zu dem unter anderem DGB\, VVN-BdA und OMAS GEGEN RECHTS gehören\, mobilisiert für 11.30 Uhr zu einer Kundgebung am\nS-Bahnhof Neu Isenburg\, von dort aus ist eine Demo zur Hugenottenhalle geplant. \nGemeinsame Anreise aus Hofheim: S2 um 10.18 Uhr.
URL:https://mtk-gegen-rechts.de/event/ebbe-langts-nie-wieder-heisst-nie-wieder-demo-und-kundgebung-gegen-die-afd/
LOCATION:Neu-Isenburg  S-Bahnhof
END:VEVENT
END:VCALENDAR