BEGIN:VCALENDAR
VERSION:2.0
PRODID:-//mtk gegen rechts - ECPv6.15.20//NONSGML v1.0//EN
CALSCALE:GREGORIAN
METHOD:PUBLISH
X-ORIGINAL-URL:https://mtk-gegen-rechts.de
X-WR-CALDESC:Veranstaltungen für mtk gegen rechts
REFRESH-INTERVAL;VALUE=DURATION:PT1H
X-Robots-Tag:noindex
X-PUBLISHED-TTL:PT1H
BEGIN:VTIMEZONE
TZID:Europe/Berlin
BEGIN:DAYLIGHT
TZOFFSETFROM:+0100
TZOFFSETTO:+0200
TZNAME:CEST
DTSTART:20240331T010000
END:DAYLIGHT
BEGIN:STANDARD
TZOFFSETFROM:+0200
TZOFFSETTO:+0100
TZNAME:CET
DTSTART:20241027T010000
END:STANDARD
BEGIN:DAYLIGHT
TZOFFSETFROM:+0100
TZOFFSETTO:+0200
TZNAME:CEST
DTSTART:20250330T010000
END:DAYLIGHT
BEGIN:STANDARD
TZOFFSETFROM:+0200
TZOFFSETTO:+0100
TZNAME:CET
DTSTART:20251026T010000
END:STANDARD
BEGIN:DAYLIGHT
TZOFFSETFROM:+0100
TZOFFSETTO:+0200
TZNAME:CEST
DTSTART:20260329T010000
END:DAYLIGHT
BEGIN:STANDARD
TZOFFSETFROM:+0200
TZOFFSETTO:+0100
TZNAME:CET
DTSTART:20261025T010000
END:STANDARD
END:VTIMEZONE
BEGIN:VEVENT
DTSTART;TZID=Europe/Berlin:20250214T110000
DTEND;TZID=Europe/Berlin:20250214T140000
DTSTAMP:20260424T072701
CREATED:20250116T213253Z
LAST-MODIFIED:20250116T213253Z
UID:1080-1739530800-1739541600@mtk-gegen-rechts.de
SUMMARY:Infostand in Schwalbach
DESCRIPTION:#WahlkampfGegenRechts\nKommt vorbei und macht mit! \n14.02.\, 11 bis 14 Uhr\nSchwalbach\, Fußgängerzone
URL:https://mtk-gegen-rechts.de/event/infostand-in-schwalbach-3/
LOCATION:Schwalbach\, Fußgängerzone
END:VEVENT
BEGIN:VEVENT
DTSTART;TZID=Europe/Berlin:20250214T180000
DTEND;TZID=Europe/Berlin:20250214T210000
DTSTAMP:20260424T072701
CREATED:20250128T094117Z
LAST-MODIFIED:20250128T094142Z
UID:1123-1739556000-1739566800@mtk-gegen-rechts.de
SUMMARY:Autoritäre Versuchungen: Rechter Populismus und Fake News – Gefahren und Herausforderungen für die Demokratie
DESCRIPTION:»Autoritäre Versuchungen: Rechter Populismus und Fake News – Gefahren und Herausforderungen für die Demokratie«\,\nVeranstaltung des Ausländerbeirats Hofheim\,\nFreitag\, 14. Februar\, 18 Uhr\, Stadthalle Hofheim\, Obergeschos\n\nProf. Dr. Benno Hafeneger von der Universität Marburg und Enis Gülegen\,  Vorsitzender der Arbeitsgeheinschaft Ausländerbeiräte in Hessen (agah) werden die aktuellen Entwicklungen des Rechtspopulismus und deren Auswirkungen auf die Gesellschaft kritisch beleuchten. Die Veranstaltung widmet sich der Analyse dieser Radikalisierungstendenzen und beschäftigt sich mit der Frage\, inwiefern die Stabilität unserer Demokratie gewährleistet ist und welche Strategien zu ihrer Bewahrung geeignet sind.\nEintritt frei\, Anmeldung nicht erforderlich.
URL:https://mtk-gegen-rechts.de/event/autoritaere-versuchungen-rechter-populismus-und-fake-news-gefahren-und-herausforderungen-fuer-die-demokratie/
LOCATION:Hofheim\, Stadthalle
END:VEVENT
END:VCALENDAR