BEGIN:VCALENDAR
VERSION:2.0
PRODID:-//mtk gegen rechts - ECPv6.15.20//NONSGML v1.0//EN
CALSCALE:GREGORIAN
METHOD:PUBLISH
X-WR-CALNAME:mtk gegen rechts
X-ORIGINAL-URL:https://mtk-gegen-rechts.de
X-WR-CALDESC:Veranstaltungen für mtk gegen rechts
REFRESH-INTERVAL;VALUE=DURATION:PT1H
X-Robots-Tag:noindex
X-PUBLISHED-TTL:PT1H
BEGIN:VTIMEZONE
TZID:Europe/Berlin
BEGIN:DAYLIGHT
TZOFFSETFROM:+0100
TZOFFSETTO:+0200
TZNAME:CEST
DTSTART:20240331T010000
END:DAYLIGHT
BEGIN:STANDARD
TZOFFSETFROM:+0200
TZOFFSETTO:+0100
TZNAME:CET
DTSTART:20241027T010000
END:STANDARD
BEGIN:DAYLIGHT
TZOFFSETFROM:+0100
TZOFFSETTO:+0200
TZNAME:CEST
DTSTART:20250330T010000
END:DAYLIGHT
BEGIN:STANDARD
TZOFFSETFROM:+0200
TZOFFSETTO:+0100
TZNAME:CET
DTSTART:20251026T010000
END:STANDARD
BEGIN:DAYLIGHT
TZOFFSETFROM:+0100
TZOFFSETTO:+0200
TZNAME:CEST
DTSTART:20260329T010000
END:DAYLIGHT
BEGIN:STANDARD
TZOFFSETFROM:+0200
TZOFFSETTO:+0100
TZNAME:CET
DTSTART:20261025T010000
END:STANDARD
END:VTIMEZONE
BEGIN:VEVENT
DTSTART;TZID=Europe/Berlin:20250222T100000
DTEND;TZID=Europe/Berlin:20250222T130000
DTSTAMP:20260424T072439
CREATED:20250116T220918Z
LAST-MODIFIED:20250116T220918Z
UID:1100-1740218400-1740229200@mtk-gegen-rechts.de
SUMMARY:Infostand in Hofheim
DESCRIPTION:#WahlkampfGegenRechts\nKommt vorbei und macht mit! \nHofheim\, 22. Februar\, 10 bis 13 Uhr\nUntere Hauptstraße
URL:https://mtk-gegen-rechts.de/event/infostand-in-hofheim-3/
LOCATION:Hofheim\, Hauptstraße
END:VEVENT
BEGIN:VEVENT
DTSTART;TZID=Europe/Berlin:20250222T163000
DTEND;TZID=Europe/Berlin:20250222T200000
DTSTAMP:20260424T072439
CREATED:20250128T094512Z
LAST-MODIFIED:20250128T094512Z
UID:1128-1740241800-1740254400@mtk-gegen-rechts.de
SUMMARY:Gemeinsam für Toleranz und Menschlichkeit – den Rechtsruck stoppen!
DESCRIPTION:Demo „Gemeinsam für Toleranz und Menschlichkeit\n– den Rechtsruck stoppen!“\,\nWiesbaden\, Samstag\, 22. Februar\, 16.30 Uhr Hauptbahnhof \nDas Wiesbadener Bündnis gegen Rechts ruft am Tag vor der Wahl zum Protest gegen Rassismus\, Queerfeindlichkeit\, Antifeminismus\, Antisemitismus\, Ableismus und Faschismus auf. \nhttps://wiesbadengegenrechts.blackblogs.org/
URL:https://mtk-gegen-rechts.de/event/gemeinsam-fuer-toleranz-und-menschlichkeit-den-rechtsruck-stoppen/
LOCATION:Wiesbaden
END:VEVENT
END:VCALENDAR