BEGIN:VCALENDAR
VERSION:2.0
PRODID:-//mtk gegen rechts - ECPv6.15.20//NONSGML v1.0//EN
CALSCALE:GREGORIAN
METHOD:PUBLISH
X-WR-CALNAME:mtk gegen rechts
X-ORIGINAL-URL:https://mtk-gegen-rechts.de
X-WR-CALDESC:Veranstaltungen für mtk gegen rechts
REFRESH-INTERVAL;VALUE=DURATION:PT1H
X-Robots-Tag:noindex
X-PUBLISHED-TTL:PT1H
BEGIN:VTIMEZONE
TZID:Europe/Berlin
BEGIN:DAYLIGHT
TZOFFSETFROM:+0100
TZOFFSETTO:+0200
TZNAME:CEST
DTSTART:20240331T010000
END:DAYLIGHT
BEGIN:STANDARD
TZOFFSETFROM:+0200
TZOFFSETTO:+0100
TZNAME:CET
DTSTART:20241027T010000
END:STANDARD
BEGIN:DAYLIGHT
TZOFFSETFROM:+0100
TZOFFSETTO:+0200
TZNAME:CEST
DTSTART:20250330T010000
END:DAYLIGHT
BEGIN:STANDARD
TZOFFSETFROM:+0200
TZOFFSETTO:+0100
TZNAME:CET
DTSTART:20251026T010000
END:STANDARD
BEGIN:DAYLIGHT
TZOFFSETFROM:+0100
TZOFFSETTO:+0200
TZNAME:CEST
DTSTART:20260329T010000
END:DAYLIGHT
BEGIN:STANDARD
TZOFFSETFROM:+0200
TZOFFSETTO:+0100
TZNAME:CET
DTSTART:20261025T010000
END:STANDARD
END:VTIMEZONE
BEGIN:VEVENT
DTSTART;TZID=Europe/Berlin:20250224T190000
DTEND;TZID=Europe/Berlin:20250224T213000
DTSTAMP:20260424T061022
CREATED:20250116T213859Z
LAST-MODIFIED:20250116T213859Z
UID:1086-1740423600-1740432600@mtk-gegen-rechts.de
SUMMARY:Solidarischer Raum - Hofheim
DESCRIPTION:Zu einem offenen Austausch über das Wahlergebnis laden wir Euch ein für den Montag nach der Bundestagswahl\, 24. Februar\, ab 19 Uhr im Solidarischen Raum im Bürgerhaus Marxheim. Wir organisieren Getränke\, wer möchte kann eine Kleinigkeit zum Essen mitbringen.
URL:https://mtk-gegen-rechts.de/event/solidarischer-raum-hofheim/
LOCATION:Hofheim\, Solidarischer Raum
END:VEVENT
END:VCALENDAR