BEGIN:VCALENDAR
VERSION:2.0
PRODID:-//mtk gegen rechts - ECPv6.15.20//NONSGML v1.0//EN
CALSCALE:GREGORIAN
METHOD:PUBLISH
X-WR-CALNAME:mtk gegen rechts
X-ORIGINAL-URL:https://mtk-gegen-rechts.de
X-WR-CALDESC:Veranstaltungen für mtk gegen rechts
REFRESH-INTERVAL;VALUE=DURATION:PT1H
X-Robots-Tag:noindex
X-PUBLISHED-TTL:PT1H
BEGIN:VTIMEZONE
TZID:Europe/Berlin
BEGIN:DAYLIGHT
TZOFFSETFROM:+0100
TZOFFSETTO:+0200
TZNAME:CEST
DTSTART:20240331T010000
END:DAYLIGHT
BEGIN:STANDARD
TZOFFSETFROM:+0200
TZOFFSETTO:+0100
TZNAME:CET
DTSTART:20241027T010000
END:STANDARD
BEGIN:DAYLIGHT
TZOFFSETFROM:+0100
TZOFFSETTO:+0200
TZNAME:CEST
DTSTART:20250330T010000
END:DAYLIGHT
BEGIN:STANDARD
TZOFFSETFROM:+0200
TZOFFSETTO:+0100
TZNAME:CET
DTSTART:20251026T010000
END:STANDARD
BEGIN:DAYLIGHT
TZOFFSETFROM:+0100
TZOFFSETTO:+0200
TZNAME:CEST
DTSTART:20260329T010000
END:DAYLIGHT
BEGIN:STANDARD
TZOFFSETFROM:+0200
TZOFFSETTO:+0100
TZNAME:CET
DTSTART:20261025T010000
END:STANDARD
END:VTIMEZONE
BEGIN:VEVENT
DTSTART;TZID=Europe/Berlin:20250429T173000
DTEND;TZID=Europe/Berlin:20250429T190000
DTSTAMP:20260424T033316
CREATED:20250425T080627Z
LAST-MODIFIED:20250425T080707Z
UID:1299-1745947800-1745953200@mtk-gegen-rechts.de
SUMMARY:Wahlanalyse Bundestagswahl - Schwalbach
DESCRIPTION:„Schwalbach steht auf für Demokratie und Vielfalt“ und „die Eulen“\nladen ein zu einer detaillierten Wahlanalyse der Bundestagswahl vom Februarin Schwalbach\, am 29.04. ab 17:30 bis ca. 19 Uhr Uhr\nim Bürgerhaus Schwalbach (Limes)\, Raum 7/8. \n\n\n\nMit Fokus auf Schwalbach und den MTK und auf die AfD werden wir das Ergebnis der Bundestagswahl 2025 betrachten. Die Veranstaltung wird durchgeführt von Aktiven aus unserem Bündnis „Schwalbach steht auf für Demokratie und Vielfalt“ und den Eulen. \n\nUnsere Analyse umfasst auch die langfristigen Entwicklungen bei den Wahlen seit 2013: Bundestag (4*)\, Landtag (2*) und Europawahl (2*). Und wir ordnen die Schwalbacher Ergebnisse in die Entwickungen im MTK mit den 12 Gemeinden ein. Ein Beispiel für diese Analyse könnt Ihr im Anhang sehen. Wir denken\, dass eine solche Wahlanalyse auch helfen kann\, zukünftige Aktivitäten zu planen.
URL:https://mtk-gegen-rechts.de/event/wahlanalyse-bundestagswahl-schwalbach/
LOCATION:Bürgerhaus Schwalbach
END:VEVENT
END:VCALENDAR