BEGIN:VCALENDAR
VERSION:2.0
PRODID:-//mtk gegen rechts - ECPv6.15.20//NONSGML v1.0//EN
CALSCALE:GREGORIAN
METHOD:PUBLISH
X-ORIGINAL-URL:https://mtk-gegen-rechts.de
X-WR-CALDESC:Veranstaltungen für mtk gegen rechts
REFRESH-INTERVAL;VALUE=DURATION:PT1H
X-Robots-Tag:noindex
X-PUBLISHED-TTL:PT1H
BEGIN:VTIMEZONE
TZID:Europe/Berlin
BEGIN:DAYLIGHT
TZOFFSETFROM:+0100
TZOFFSETTO:+0200
TZNAME:CEST
DTSTART:20240331T010000
END:DAYLIGHT
BEGIN:STANDARD
TZOFFSETFROM:+0200
TZOFFSETTO:+0100
TZNAME:CET
DTSTART:20241027T010000
END:STANDARD
BEGIN:DAYLIGHT
TZOFFSETFROM:+0100
TZOFFSETTO:+0200
TZNAME:CEST
DTSTART:20250330T010000
END:DAYLIGHT
BEGIN:STANDARD
TZOFFSETFROM:+0200
TZOFFSETTO:+0100
TZNAME:CET
DTSTART:20251026T010000
END:STANDARD
BEGIN:DAYLIGHT
TZOFFSETFROM:+0100
TZOFFSETTO:+0200
TZNAME:CEST
DTSTART:20260329T010000
END:DAYLIGHT
BEGIN:STANDARD
TZOFFSETFROM:+0200
TZOFFSETTO:+0100
TZNAME:CET
DTSTART:20261025T010000
END:STANDARD
END:VTIMEZONE
BEGIN:VEVENT
DTSTART;TZID=Europe/Berlin:20250830T140000
DTEND;TZID=Europe/Berlin:20250830T220000
DTSTAMP:20260423T230812
CREATED:20250721T165249Z
LAST-MODIFIED:20250721T165249Z
UID:1382-1756562400-1756591200@mtk-gegen-rechts.de
SUMMARY:Sommer- und Friedensfest - die Linke Hofheim
DESCRIPTION:MTK gegen Rechts\nmit dabei auf dem Sommer- und Friedensfest der Partei „Die Linke“ \n30. August\, 14 bis 22 Uhr\nLudwig-Meidner-Platz\, Hofheim
URL:https://mtk-gegen-rechts.de/event/sommer-und-friedensfest-die-linke-hofheim/
LOCATION:Hofheim\, Ludwig-Meidner-Platz\, Ludwig-Meidner-Platz\, Hofheim\, 65719\, Germany
END:VEVENT
END:VCALENDAR