BEGIN:VCALENDAR
VERSION:2.0
PRODID:-//mtk gegen rechts - ECPv6.15.20//NONSGML v1.0//EN
CALSCALE:GREGORIAN
METHOD:PUBLISH
X-ORIGINAL-URL:https://mtk-gegen-rechts.de
X-WR-CALDESC:Veranstaltungen für mtk gegen rechts
REFRESH-INTERVAL;VALUE=DURATION:PT1H
X-Robots-Tag:noindex
X-PUBLISHED-TTL:PT1H
BEGIN:VTIMEZONE
TZID:Europe/Berlin
BEGIN:DAYLIGHT
TZOFFSETFROM:+0100
TZOFFSETTO:+0200
TZNAME:CEST
DTSTART:20240331T010000
END:DAYLIGHT
BEGIN:STANDARD
TZOFFSETFROM:+0200
TZOFFSETTO:+0100
TZNAME:CET
DTSTART:20241027T010000
END:STANDARD
BEGIN:DAYLIGHT
TZOFFSETFROM:+0100
TZOFFSETTO:+0200
TZNAME:CEST
DTSTART:20250330T010000
END:DAYLIGHT
BEGIN:STANDARD
TZOFFSETFROM:+0200
TZOFFSETTO:+0100
TZNAME:CET
DTSTART:20251026T010000
END:STANDARD
BEGIN:DAYLIGHT
TZOFFSETFROM:+0100
TZOFFSETTO:+0200
TZNAME:CEST
DTSTART:20260329T010000
END:DAYLIGHT
BEGIN:STANDARD
TZOFFSETFROM:+0200
TZOFFSETTO:+0100
TZNAME:CET
DTSTART:20261025T010000
END:STANDARD
END:VTIMEZONE
BEGIN:VEVENT
DTSTART;VALUE=DATE:20250903
DTEND;VALUE=DATE:20250926
DTSTAMP:20260423T215619
CREATED:20250910T085353Z
LAST-MODIFIED:20250910T091546Z
UID:1430-1756857600-1758844799@mtk-gegen-rechts.de
SUMMARY:„Gegen das Vergessen – 10 Jahre AG Stolpersteine“  Schwalbach
DESCRIPTION:Ausstellung im Bürgerhaus Schwalbach \n \nvom 3.9.2025 bis 25.9.2025\nMontags\, Donnerstags und Freitags von 8-12 Uhr sowie\nMittwochs von 8-12 Uhr und von 15-18 Uhr \nhttps://www.stolpersteine-in-bad-soden.de
URL:https://mtk-gegen-rechts.de/event/gegen-das-vergessen-10-jahre-ag-stolpersteine-schwalbach/
END:VEVENT
BEGIN:VEVENT
DTSTART;VALUE=DATE:20250912
DTEND;VALUE=DATE:20250915
DTSTAMP:20260423T215619
CREATED:20250904T135607Z
LAST-MODIFIED:20250904T135607Z
UID:1426-1757635200-1757894399@mtk-gegen-rechts.de
SUMMARY:CSD Main-Taunus in Hofheim
DESCRIPTION:Christopher Street Day\nvom 12. bis 14. September 2025 in Hofheim am Taunus! \n \nDrei Tage voller Sichtbarkeit\, Politik\, Kultur und Gemeinschaft erwarten euch\, mit einem vielfältigen Bühnenprogramm\, spannenden Aktionen und starken Botschaften gegen Queerfeindlichkeit und Diskriminierung. \nwww.csdmtk.de/csd-2025/
URL:https://mtk-gegen-rechts.de/event/csd-main-taunus-in-hofheim/
END:VEVENT
END:VCALENDAR