BEGIN:VCALENDAR
VERSION:2.0
PRODID:-//mtk gegen rechts - ECPv6.15.20//NONSGML v1.0//EN
CALSCALE:GREGORIAN
METHOD:PUBLISH
X-WR-CALNAME:mtk gegen rechts
X-ORIGINAL-URL:https://mtk-gegen-rechts.de
X-WR-CALDESC:Veranstaltungen für mtk gegen rechts
REFRESH-INTERVAL;VALUE=DURATION:PT1H
X-Robots-Tag:noindex
X-PUBLISHED-TTL:PT1H
BEGIN:VTIMEZONE
TZID:Europe/Berlin
BEGIN:DAYLIGHT
TZOFFSETFROM:+0100
TZOFFSETTO:+0200
TZNAME:CEST
DTSTART:20240331T010000
END:DAYLIGHT
BEGIN:STANDARD
TZOFFSETFROM:+0200
TZOFFSETTO:+0100
TZNAME:CET
DTSTART:20241027T010000
END:STANDARD
BEGIN:DAYLIGHT
TZOFFSETFROM:+0100
TZOFFSETTO:+0200
TZNAME:CEST
DTSTART:20250330T010000
END:DAYLIGHT
BEGIN:STANDARD
TZOFFSETFROM:+0200
TZOFFSETTO:+0100
TZNAME:CET
DTSTART:20251026T010000
END:STANDARD
BEGIN:DAYLIGHT
TZOFFSETFROM:+0100
TZOFFSETTO:+0200
TZNAME:CEST
DTSTART:20260329T010000
END:DAYLIGHT
BEGIN:STANDARD
TZOFFSETFROM:+0200
TZOFFSETTO:+0100
TZNAME:CET
DTSTART:20261025T010000
END:STANDARD
END:VTIMEZONE
BEGIN:VEVENT
DTSTART;TZID=Europe/Berlin:20251115T170000
DTEND;TZID=Europe/Berlin:20251115T200000
DTSTAMP:20260423T185921
CREATED:20251025T171325Z
LAST-MODIFIED:20251025T172212Z
UID:1484-1763226000-1763236800@mtk-gegen-rechts.de
SUMMARY:Ausstellung: „Rechter Terror in Hessen”
DESCRIPTION:Foyer im Gewerkschaftshaus\nWilhelm-Leuschner-Str. 69-77\, 60329 Frankfurt am Main \nSamstag\, 15.11.\, 17 Uhr \nAusstellungseröffnung \nMit den Kurator*innen der Ausstellung: \nSascha Schmidt – Politikwissenschaftler\, aktiv im Beratungsnetzwerk gegen Rechtsextremismus und für Demokratie in Hessen sowie Leiter der Abteilung „extreme Rechte/Diskriminierung“ des DGB Hessen-Thüringen. \nund \nYvonne Weyrauch – Politikwissenschaftlerin\, aktiv im Beratungsnetzwerk gegen Rechtsextremismus und für Demokratie in Hessen sowie Dozentin der politischen Bildung. \n \nDie Jahre 2019 und 2020 — mit dem Mord an Dr. Walter Lübcke und dem Attentat von Hanau — stellen einen traurigen Höhepunkt in der Geschichte rechter Gewalt in Hessen dar. \nDoch rechter Terror ist kein neues Phänomen. Er zieht sich wie ein roter Faden durch die Geschichte Hessens. Dies haben die Politikwissenschaftler*innen Sascha Schmidt und Yvonne Weyrauch in ihrem Buch „Rechter Terror in Hessen“ umfassend dargestellt. Seit Gründung des Bundeslandes haben mindestens 20 Menschen durch brutale rechte Gewalt ihr Leben verloren. \nAuf Grundlage der Recherchen zu ihrem Buch haben die Autor*innen nun eine Ausstellung konzipiert\, die rechten Terror in seinen unterschiedlichen Facetten beschreibt. \nDie fotografisch bebilderten Exponate zeigen ausgewählte Fälle schwerster rechter Gewalttaten aus allen hessischen Regionen seit Bestehen des Bundeslandes. Die Fotografien machen deutlich: An den meisten Orten erinnert nichts an die schrecklichen Gewalttaten. \nDie Ausstellung ist ein Projekt des DGB-Bildungswerks Hessen und wird von der Hessischen Landeszentrale für politische Bildung gefördert.\nVeranstalter: DGB Region Frankfurt-Rhein-Main und DGB Bildungswerk Hessen \nDer Eintritt ist frei \nEine Anmeldung ist nicht erforderlich
URL:https://mtk-gegen-rechts.de/event/ausstellung-rechter-terror-in-hessen/
LOCATION:Gewerkschaftshaus\, Wilhelm-Leuschner-Str. 69-77\, Frankfurt am Main\, 60329\, Germany
END:VEVENT
END:VCALENDAR