BEGIN:VCALENDAR
VERSION:2.0
PRODID:-//mtk gegen rechts - ECPv6.15.20//NONSGML v1.0//EN
CALSCALE:GREGORIAN
METHOD:PUBLISH
X-WR-CALNAME:mtk gegen rechts
X-ORIGINAL-URL:https://mtk-gegen-rechts.de
X-WR-CALDESC:Veranstaltungen für mtk gegen rechts
REFRESH-INTERVAL;VALUE=DURATION:PT1H
X-Robots-Tag:noindex
X-PUBLISHED-TTL:PT1H
BEGIN:VTIMEZONE
TZID:Europe/Berlin
BEGIN:DAYLIGHT
TZOFFSETFROM:+0100
TZOFFSETTO:+0200
TZNAME:CEST
DTSTART:20240331T010000
END:DAYLIGHT
BEGIN:STANDARD
TZOFFSETFROM:+0200
TZOFFSETTO:+0100
TZNAME:CET
DTSTART:20241027T010000
END:STANDARD
BEGIN:DAYLIGHT
TZOFFSETFROM:+0100
TZOFFSETTO:+0200
TZNAME:CEST
DTSTART:20250330T010000
END:DAYLIGHT
BEGIN:STANDARD
TZOFFSETFROM:+0200
TZOFFSETTO:+0100
TZNAME:CET
DTSTART:20251026T010000
END:STANDARD
BEGIN:DAYLIGHT
TZOFFSETFROM:+0100
TZOFFSETTO:+0200
TZNAME:CEST
DTSTART:20260329T010000
END:DAYLIGHT
BEGIN:STANDARD
TZOFFSETFROM:+0200
TZOFFSETTO:+0100
TZNAME:CET
DTSTART:20261025T010000
END:STANDARD
END:VTIMEZONE
BEGIN:VEVENT
DTSTART;TZID=Europe/Berlin:20251125T140000
DTEND;TZID=Europe/Berlin:20251125T170000
DTSTAMP:20260423T185857
CREATED:20251119T135604Z
LAST-MODIFIED:20251122T133713Z
UID:1511-1764079200-1764090000@mtk-gegen-rechts.de
SUMMARY:Tag gegen Gewalt an Frauen – Hofheim
DESCRIPTION:Straßentheater und Infostand anlässlich des Internationalen Tags gegen Gewalt an Frauen. \nDienstag\, 25. November\,  14 bis 17 Uhr\nHofheim\, Untere Hauptstraße \nMTK gegen Rechts und OMAS GEGEN RECHTS Hofheim
URL:https://mtk-gegen-rechts.de/event/tag-gegen-gewalt-an-frauen-hofheim/
LOCATION:Hofheim\, Hauptstraße
END:VEVENT
BEGIN:VEVENT
DTSTART;TZID=Europe/Berlin:20251125T193000
DTEND;TZID=Europe/Berlin:20251125T210000
DTSTAMP:20260423T185857
CREATED:20251108T113044Z
LAST-MODIFIED:20251108T113323Z
UID:1499-1764099000-1764104400@mtk-gegen-rechts.de
SUMMARY:„Ich war Eva Diamant“ – Lesung in Hofheim
DESCRIPTION:Dienstag\, 25. November 2025\, 19:30\nin der Stadtbücherei Hofheim\,\n„Ich war Eva Diamant“\nmit Eva Szepesi\, die als zwölfjährige den Holocaust überlebte.\nVeranstalter: Stadtbücherei Hofheim und CJZ.\nAufgrund der begrenzten Plätze vor Ort sind kostenfreie Eintrittskarten vorab in der Buchhandlung Tolksdorf (06192-5213) oder in der Stadtbücherei Hofheim (06192-202570) abzuholen.
URL:https://mtk-gegen-rechts.de/event/ich-war-eva-diamant-lesung-in-hofheim/
LOCATION:hofheim Stadtbücherei\, Hofheim\, 65719\, Germany
END:VEVENT
END:VCALENDAR