BEGIN:VCALENDAR
VERSION:2.0
PRODID:-//mtk gegen rechts - ECPv6.15.20//NONSGML v1.0//EN
CALSCALE:GREGORIAN
METHOD:PUBLISH
X-ORIGINAL-URL:https://mtk-gegen-rechts.de
X-WR-CALDESC:Veranstaltungen für mtk gegen rechts
REFRESH-INTERVAL;VALUE=DURATION:PT1H
X-Robots-Tag:noindex
X-PUBLISHED-TTL:PT1H
BEGIN:VTIMEZONE
TZID:Europe/Berlin
BEGIN:DAYLIGHT
TZOFFSETFROM:+0100
TZOFFSETTO:+0200
TZNAME:CEST
DTSTART:20250330T010000
END:DAYLIGHT
BEGIN:STANDARD
TZOFFSETFROM:+0200
TZOFFSETTO:+0100
TZNAME:CET
DTSTART:20251026T010000
END:STANDARD
BEGIN:DAYLIGHT
TZOFFSETFROM:+0100
TZOFFSETTO:+0200
TZNAME:CEST
DTSTART:20260329T010000
END:DAYLIGHT
BEGIN:STANDARD
TZOFFSETFROM:+0200
TZOFFSETTO:+0100
TZNAME:CET
DTSTART:20261025T010000
END:STANDARD
BEGIN:DAYLIGHT
TZOFFSETFROM:+0100
TZOFFSETTO:+0200
TZNAME:CEST
DTSTART:20270328T010000
END:DAYLIGHT
BEGIN:STANDARD
TZOFFSETFROM:+0200
TZOFFSETTO:+0100
TZNAME:CET
DTSTART:20271031T010000
END:STANDARD
END:VTIMEZONE
BEGIN:VEVENT
DTSTART;TZID=Europe/Berlin:20260122T190000
DTEND;TZID=Europe/Berlin:20260122T190000
DTSTAMP:20260423T160914
CREATED:20260110T180754Z
LAST-MODIFIED:20260110T184353Z
UID:1548-1769108400-1769108400@mtk-gegen-rechts.de
SUMMARY:Tomorrow – Film – Gustavsburg
DESCRIPTION:Filmabend am 22.01.2026 um 19:00 Uhr\,\nin den Burg-Lichtspielen Gustavsburg. \n \nMiteinander in der Mainspitze zeigt in Kooperation mit dem Kulturbüro Ginsheim- Gustavsburg und dem LebensAlter e.V. den Preisgekrönten Film Tomorrow. \nWas\, wenn es die Formel gäbe\, die Welt zu retten?\nDer prämierte Dokumentarfilm stellt sich diese Frage.\nEr besucht dazu weltweit Projekte und Initiativen\, die ökologische\, wirtschaftliche und demokratische Alternativen entwickeln. \nhttps://miteinander-in-der-mainspitze.de/tomorrow-der-film/
URL:https://mtk-gegen-rechts.de/event/tomorrow-film-gustavsburg/
LOCATION:Burg-Lichtspiele Gustavsburg\, Darmstädter Landstraße 62\, Ginsheim-Gustavsburg\, 65462 Ginsheim-Gustavsburg
END:VEVENT
END:VCALENDAR