BEGIN:VCALENDAR
VERSION:2.0
PRODID:-//mtk gegen rechts - ECPv6.15.20//NONSGML v1.0//EN
CALSCALE:GREGORIAN
METHOD:PUBLISH
X-WR-CALNAME:mtk gegen rechts
X-ORIGINAL-URL:https://mtk-gegen-rechts.de
X-WR-CALDESC:Veranstaltungen für mtk gegen rechts
REFRESH-INTERVAL;VALUE=DURATION:PT1H
X-Robots-Tag:noindex
X-PUBLISHED-TTL:PT1H
BEGIN:VTIMEZONE
TZID:Europe/Berlin
BEGIN:DAYLIGHT
TZOFFSETFROM:+0100
TZOFFSETTO:+0200
TZNAME:CEST
DTSTART:20250330T010000
END:DAYLIGHT
BEGIN:STANDARD
TZOFFSETFROM:+0200
TZOFFSETTO:+0100
TZNAME:CET
DTSTART:20251026T010000
END:STANDARD
BEGIN:DAYLIGHT
TZOFFSETFROM:+0100
TZOFFSETTO:+0200
TZNAME:CEST
DTSTART:20260329T010000
END:DAYLIGHT
BEGIN:STANDARD
TZOFFSETFROM:+0200
TZOFFSETTO:+0100
TZNAME:CET
DTSTART:20261025T010000
END:STANDARD
BEGIN:DAYLIGHT
TZOFFSETFROM:+0100
TZOFFSETTO:+0200
TZNAME:CEST
DTSTART:20270328T010000
END:DAYLIGHT
BEGIN:STANDARD
TZOFFSETFROM:+0200
TZOFFSETTO:+0100
TZNAME:CET
DTSTART:20271031T010000
END:STANDARD
END:VTIMEZONE
BEGIN:VEVENT
DTSTART;TZID=Europe/Berlin:20260202T190000
DTEND;TZID=Europe/Berlin:20260202T210000
DTSTAMP:20260423T143253
CREATED:20260126T170156Z
LAST-MODIFIED:20260126T170650Z
UID:1616-1770058800-1770066000@mtk-gegen-rechts.de
SUMMARY:Solidarischer Raum – Argumentieren im Wahlkampf
DESCRIPTION:Im Solidarischen Raum geht es diesmal – am 2. Februar\, 19 Uhr – um die Aktivitäten im Wahlkampf gegen Rechtsextremismus und Menschenfeindlichkeit. Wie können wir uns am Infotisch und bei Aktionen verhalten\, ohne unnötig zu eskalieren; klare Worte finden und trotzdem (oder deswegen) auch Freude am solidarischen Argumentieren haben. \nEs gibt ein kompaktes Argumentationstraining mit Input und praktische Übungen. \nDie Flyer zur Kommunalwahl sollten dann auch schon zur Abholung bereit liegen! \n… \nDer Solidarische Raum ist ein offenes* Treffen für Austausch und Diskussion. Jeden ersten Montag im Monat (und manchmal auch zwischendurch) im Bürgerhaus Marxheim (Hintereingang / Jugendraum) \n* Personen\, die rechtsextremen Parteien oder Organisationen angehören\, der rechtsextremen Szene zuzuordnen sind oder bereits in der Vergangenheit durch rassistische\, antisemitische oder sonstige menschenverachtenden Äußerungen in Erscheinung getreten sind\, haben im Solidarischen Raum keinen Zutritt.
URL:https://mtk-gegen-rechts.de/event/solidarischer-raum-argumentieren-im-wahlkampf/
END:VEVENT
END:VCALENDAR