BEGIN:VCALENDAR
VERSION:2.0
PRODID:-//mtk gegen rechts - ECPv6.15.20//NONSGML v1.0//EN
CALSCALE:GREGORIAN
METHOD:PUBLISH
X-WR-CALNAME:mtk gegen rechts
X-ORIGINAL-URL:https://mtk-gegen-rechts.de
X-WR-CALDESC:Veranstaltungen für mtk gegen rechts
REFRESH-INTERVAL;VALUE=DURATION:PT1H
X-Robots-Tag:noindex
X-PUBLISHED-TTL:PT1H
BEGIN:VTIMEZONE
TZID:Europe/Berlin
BEGIN:DAYLIGHT
TZOFFSETFROM:+0100
TZOFFSETTO:+0200
TZNAME:CEST
DTSTART:20250330T010000
END:DAYLIGHT
BEGIN:STANDARD
TZOFFSETFROM:+0200
TZOFFSETTO:+0100
TZNAME:CET
DTSTART:20251026T010000
END:STANDARD
BEGIN:DAYLIGHT
TZOFFSETFROM:+0100
TZOFFSETTO:+0200
TZNAME:CEST
DTSTART:20260329T010000
END:DAYLIGHT
BEGIN:STANDARD
TZOFFSETFROM:+0200
TZOFFSETTO:+0100
TZNAME:CET
DTSTART:20261025T010000
END:STANDARD
BEGIN:DAYLIGHT
TZOFFSETFROM:+0100
TZOFFSETTO:+0200
TZNAME:CEST
DTSTART:20270328T010000
END:DAYLIGHT
BEGIN:STANDARD
TZOFFSETFROM:+0200
TZOFFSETTO:+0100
TZNAME:CET
DTSTART:20271031T010000
END:STANDARD
END:VTIMEZONE
BEGIN:VEVENT
DTSTART;TZID=Europe/Berlin:20260302T190000
DTEND;TZID=Europe/Berlin:20260302T210000
DTSTAMP:20260423T125929
CREATED:20260216T141904Z
LAST-MODIFIED:20260216T141904Z
UID:1653-1772478000-1772485200@mtk-gegen-rechts.de
SUMMARY:Solidarischer Raum: Klare Worte gegen Rechts
DESCRIPTION:Im nächsten Solidarischen Raum am Montag\, 2. März\, 19 Uhr\, geht es noch einmal um das Thema Argumentieren gegen Rechts im Wahlkampf. Nach dem kompakten Argumentationstraining Anfang Februar möchten wir uns über unsere Erfahrungen austauschen\, unter anderem an den Infoständen. \nDer Solidarische Raum ist ein offenes* Treffen für Austausch und Diskussion. Jeden ersten Montag im Monat (und manchmal auch zwischendurch) im Bürgerhaus Marxheim (Hintereingang / Jugendraum) \n* Personen\, die rechtsextremen Parteien oder Organisationen angehören\, der rechtsextremen Szene zuzuordnen sind oder bereits in der Vergangenheit durch rassistische\, antisemitische oder sonstige menschenverachtenden Äußerungen in Erscheinung getreten sind\, haben im Solidarischen Raum keinen Zutritt.
URL:https://mtk-gegen-rechts.de/event/solidarischer-raum-klare-worte-gegen-rechts/
LOCATION:Bürgerhaus Marxheim
END:VEVENT
END:VCALENDAR