BEGIN:VCALENDAR
VERSION:2.0
PRODID:-//mtk gegen rechts - ECPv6.15.20//NONSGML v1.0//EN
CALSCALE:GREGORIAN
METHOD:PUBLISH
X-ORIGINAL-URL:https://mtk-gegen-rechts.de
X-WR-CALDESC:Veranstaltungen für mtk gegen rechts
REFRESH-INTERVAL;VALUE=DURATION:PT1H
X-Robots-Tag:noindex
X-PUBLISHED-TTL:PT1H
BEGIN:VTIMEZONE
TZID:Europe/Berlin
BEGIN:DAYLIGHT
TZOFFSETFROM:+0100
TZOFFSETTO:+0200
TZNAME:CEST
DTSTART:20250330T010000
END:DAYLIGHT
BEGIN:STANDARD
TZOFFSETFROM:+0200
TZOFFSETTO:+0100
TZNAME:CET
DTSTART:20251026T010000
END:STANDARD
BEGIN:DAYLIGHT
TZOFFSETFROM:+0100
TZOFFSETTO:+0200
TZNAME:CEST
DTSTART:20260329T010000
END:DAYLIGHT
BEGIN:STANDARD
TZOFFSETFROM:+0200
TZOFFSETTO:+0100
TZNAME:CET
DTSTART:20261025T010000
END:STANDARD
BEGIN:DAYLIGHT
TZOFFSETFROM:+0100
TZOFFSETTO:+0200
TZNAME:CEST
DTSTART:20270328T010000
END:DAYLIGHT
BEGIN:STANDARD
TZOFFSETFROM:+0200
TZOFFSETTO:+0100
TZNAME:CET
DTSTART:20271031T010000
END:STANDARD
END:VTIMEZONE
BEGIN:VEVENT
DTSTART;TZID=Europe/Berlin:20260305T190000
DTEND;TZID=Europe/Berlin:20260305T210000
DTSTAMP:20260423T130402
CREATED:20260216T142200Z
LAST-MODIFIED:20260216T143243Z
UID:1655-1772737200-1772744400@mtk-gegen-rechts.de
SUMMARY:Gnadenlos Deutsch. Lesung mit Helmut Ortner – Schwalbach
DESCRIPTION:Gnadenlos Deutsch: Von der Gegenwart der Vergangenheit – Muss eine Demokratie ihre Feinde aushalten? \nLesung und Diskussion mit Helmut Ortner\,  \nDonnerstag\, 5. März\, 19:30 Uhr\,\nEv. Limesgemeinde Schwalbach\, Ostring 15\n\nVeranstalter: Gesellschaft für Christlich-Jüdische Zusammenarbeit im Main-Taunus-Kreis und Deutsch-Ausländische Gemeinschaft Schwalbach\, Eintritt frei\, um Spenden wird gebeten. \n 
URL:https://mtk-gegen-rechts.de/event/gnadenlos-deutsch-lesung-mit-helmut-ortner-schwalbach/
END:VEVENT
END:VCALENDAR