BEGIN:VCALENDAR
VERSION:2.0
PRODID:-//mtk gegen rechts - ECPv6.15.20//NONSGML v1.0//EN
CALSCALE:GREGORIAN
METHOD:PUBLISH
X-WR-CALNAME:mtk gegen rechts
X-ORIGINAL-URL:https://mtk-gegen-rechts.de
X-WR-CALDESC:Veranstaltungen für mtk gegen rechts
REFRESH-INTERVAL;VALUE=DURATION:PT1H
X-Robots-Tag:noindex
X-PUBLISHED-TTL:PT1H
BEGIN:VTIMEZONE
TZID:Europe/Berlin
BEGIN:DAYLIGHT
TZOFFSETFROM:+0100
TZOFFSETTO:+0200
TZNAME:CEST
DTSTART:20250330T010000
END:DAYLIGHT
BEGIN:STANDARD
TZOFFSETFROM:+0200
TZOFFSETTO:+0100
TZNAME:CET
DTSTART:20251026T010000
END:STANDARD
BEGIN:DAYLIGHT
TZOFFSETFROM:+0100
TZOFFSETTO:+0200
TZNAME:CEST
DTSTART:20260329T010000
END:DAYLIGHT
BEGIN:STANDARD
TZOFFSETFROM:+0200
TZOFFSETTO:+0100
TZNAME:CET
DTSTART:20261025T010000
END:STANDARD
BEGIN:DAYLIGHT
TZOFFSETFROM:+0100
TZOFFSETTO:+0200
TZNAME:CEST
DTSTART:20270328T010000
END:DAYLIGHT
BEGIN:STANDARD
TZOFFSETFROM:+0200
TZOFFSETTO:+0100
TZNAME:CET
DTSTART:20271031T010000
END:STANDARD
END:VTIMEZONE
BEGIN:VEVENT
DTSTART;TZID=Europe/Berlin:20260504T190000
DTEND;TZID=Europe/Berlin:20260504T210000
DTSTAMP:20260421T150122
CREATED:20260406T194812Z
LAST-MODIFIED:20260406T195337Z
UID:1691-1777921200-1777928400@mtk-gegen-rechts.de
SUMMARY:Solidarischer Raum: Stadt und Migration
DESCRIPTION:Im Input geht es um erinnerungs-politische Fragen im öffentlichen\nStadtraum einer (Post-) Migrations-gesellschaft. Am Beispiel des\numgestürzten Höchster Bismarck-Denkmals und seines urbanen\nUmfelds werden verschiedene Praktiken\, Machtverhältnisse sowie\nBeharrungsbündnisse lokaler Akteure erkennbar\, die eine lange\nGeschichte von Nicht-Erwähnungen migrationsrelevanter Aspekte in\nder Meistererzählung vorweisen. Hier sind aber gleichzeitig\npotenzielle Anknüpfungspunkte für bisher ungehörte und\nmarginalisierte Perspektiven sowie neue\, demokratische\nDiskussionsprozesse der Stadtgesellschaft möglich. \nReferentin: Tülây Güneș\,\nArchitektin & Stadtforscherin \nDer Solidarische Raum im Bürgerhaus Marxheim (Jugendraum / Hintereingang) ist ein offenes* Treffen für Austausch und Diskussion. Jeden ersten Montag im Monat (und manchmal auch zwischendurch) im Bürgerhaus Marxheim (Hintereingang / Jugendraum) \n* Personen\, die rechtsextremen Parteien oder Organisationen angehören\, der rechtsextremen Szene zuzuordnen sind oder bereits in der Vergangenheit durch rassistische\, antisemitische oder sonstige menschenverachtenden Äußerungen in Erscheinung getreten sind\, haben im Solidarischen Raum keinen Zutritt.
URL:https://mtk-gegen-rechts.de/event/solidarischer-raum-stadt-und-migration/
END:VEVENT
END:VCALENDAR