BEGIN:VCALENDAR
VERSION:2.0
PRODID:-//mtk gegen rechts - ECPv6.15.20//NONSGML v1.0//EN
CALSCALE:GREGORIAN
METHOD:PUBLISH
X-ORIGINAL-URL:https://mtk-gegen-rechts.de
X-WR-CALDESC:Veranstaltungen für mtk gegen rechts
REFRESH-INTERVAL;VALUE=DURATION:PT1H
X-Robots-Tag:noindex
X-PUBLISHED-TTL:PT1H
BEGIN:VTIMEZONE
TZID:Europe/Berlin
BEGIN:DAYLIGHT
TZOFFSETFROM:+0100
TZOFFSETTO:+0200
TZNAME:CEST
DTSTART:20240331T010000
END:DAYLIGHT
BEGIN:STANDARD
TZOFFSETFROM:+0200
TZOFFSETTO:+0100
TZNAME:CET
DTSTART:20241027T010000
END:STANDARD
BEGIN:DAYLIGHT
TZOFFSETFROM:+0100
TZOFFSETTO:+0200
TZNAME:CEST
DTSTART:20250330T010000
END:DAYLIGHT
BEGIN:STANDARD
TZOFFSETFROM:+0200
TZOFFSETTO:+0100
TZNAME:CET
DTSTART:20251026T010000
END:STANDARD
BEGIN:DAYLIGHT
TZOFFSETFROM:+0100
TZOFFSETTO:+0200
TZNAME:CEST
DTSTART:20260329T010000
END:DAYLIGHT
BEGIN:STANDARD
TZOFFSETFROM:+0200
TZOFFSETTO:+0100
TZNAME:CET
DTSTART:20261025T010000
END:STANDARD
END:VTIMEZONE
BEGIN:VEVENT
DTSTART;TZID=Europe/Berlin:20250201T120000
DTEND;TZID=Europe/Berlin:20250201T170000
DTSTAMP:20260424T061329
CREATED:20250123T152049Z
LAST-MODIFIED:20250128T093804Z
UID:1108-1738411200-1738429200@mtk-gegen-rechts.de
SUMMARY:Kundgebungen gegen die AfD in Neu-Isenburg
DESCRIPTION:Protest gegen den Wahlkampf-Auftritt von Alice Weidel in der Hugenottenhalle Neu Isenburg\, am Samstag\, 1. Februar 2025 \nEs sind bisher vier Kundgebungen/Mahnwachen in Neu-Isenburg angemeldet. Ein lokales Bündnis\, zu dem unter anderem DGB\, VVN-BdA und OMAS GEGEN RECHTS gehören\, mobilisiert für 11.30 Uhr zu einer Kundgebung am\nS-Bahnhof Neu Isenburg\, von dort aus ist eine Demo zur Hugenottenhalle geplant. \nGemeinsame Anreise aus Hofheim: S2 um 10.18 Uhr.
URL:https://mtk-gegen-rechts.de/event/ebbe-langts-nie-wieder-heisst-nie-wieder-demo-und-kundgebung-gegen-die-afd/
LOCATION:Neu-Isenburg  S-Bahnhof
END:VEVENT
BEGIN:VEVENT
DTSTART;TZID=Europe/Berlin:20250205T183000
DTEND;TZID=Europe/Berlin:20250205T210000
DTSTAMP:20260424T061329
CREATED:20250131T200133Z
LAST-MODIFIED:20250131T200617Z
UID:1141-1738780200-1738789200@mtk-gegen-rechts.de
SUMMARY:Wir sind die Brandmauer – Kelkheim
DESCRIPTION:Aufruf zum Protest anlässlich des CDU-Valentinstreffens\nMittwoch\, 5. Februar 2025\, 18:30 Uhr vor der Stadthalle Kelkheim\n(Gagernring 1) \n \nWir sind entsetzt\, dass die CDU im Bundestag jetzt gemeinsame Sache mit der AfD macht. Sich Mehrheiten mit den Stimmen einer Partei zu sichern\, in der sich Rechtsextreme tummeln\, ist ein politischer Dammbruch. Die CDU hat die Brandmauer eingerissen\, mit der sich demokratische Parteien bisher von der AfD abgegrenzt haben – und das ausgerechnet an dem Tag\, an dem kurz zuvor noch im Bundestag der Befreiung des Konzentrationslagers Auschwitz gedacht wurde. \nAngesichts des akut demokratiegefährdenden Verhaltens der CDU mobilisieren wir zum Protest gegen den CDU-Wahlkampfauftritt\, zu dem sich unter anderem Hessens Ministerpräsident Rhein und CDU-Generalsekretär Linnemann angekündigt haben. Wir stehen ein für eine demokratische und solidarische Gesellschaft\, in der Rassismus und andere Formen der Diskriminierung keinen Platz haben. \n 
URL:https://mtk-gegen-rechts.de/event/wir-sind-die-brandmauer-kelkheim/
LOCATION:Kelkheim\, Stadthalle
END:VEVENT
BEGIN:VEVENT
DTSTART;TZID=Europe/Berlin:20250207T110000
DTEND;TZID=Europe/Berlin:20250207T140000
DTSTAMP:20260424T061329
CREATED:20250116T213156Z
LAST-MODIFIED:20250116T213156Z
UID:1078-1738926000-1738936800@mtk-gegen-rechts.de
SUMMARY:Infostand in Schwalbach
DESCRIPTION:#WahlkampfGegenRechts\nKommt vorbei und macht mit! \n07.02.\, 11 bis 14 Uhr\nSchwalbach\, Fußgängerzone
URL:https://mtk-gegen-rechts.de/event/infostand-in-schwalbach-2/
LOCATION:Schwalbach\, Fußgängerzone
END:VEVENT
BEGIN:VEVENT
DTSTART;TZID=Europe/Berlin:20250207T143000
DTEND;TZID=Europe/Berlin:20250207T160000
DTSTAMP:20260424T061329
CREATED:20250116T212654Z
LAST-MODIFIED:20250116T212654Z
UID:1071-1738938600-1738944000@mtk-gegen-rechts.de
SUMMARY:Infostand in Hattersheim
DESCRIPTION:#WahlkampfGegenRechts\nKommt vorbei und macht mit! \n07.02.\, 14:30 bis 16 Uhr\nHattersheim\, Markt
URL:https://mtk-gegen-rechts.de/event/infostand-in-hattersheim-2/
END:VEVENT
BEGIN:VEVENT
DTSTART;TZID=Europe/Berlin:20250208T100000
DTEND;TZID=Europe/Berlin:20250208T130000
DTSTAMP:20260424T061329
CREATED:20250116T212227Z
LAST-MODIFIED:20250116T212227Z
UID:1066-1739008800-1739019600@mtk-gegen-rechts.de
SUMMARY:Infostand in Hofheim
DESCRIPTION:Infostand von MTK gegen rechts und den Omas gegen rechts.\n#WahlkampfGegenRechts\nKommt vorbei und macht mit! \nHofheim\, 8. Februar\, 10 bis 13 Uhr\nUntere Hauptstraße
URL:https://mtk-gegen-rechts.de/event/infostand-in-hofheim/
LOCATION:Hofheim\, Hauptstraße
END:VEVENT
BEGIN:VEVENT
DTSTART;TZID=Europe/Berlin:20250208T110000
DTEND;TZID=Europe/Berlin:20250208T170000
DTSTAMP:20260424T061329
CREATED:20250205T130440Z
LAST-MODIFIED:20250205T130515Z
UID:1161-1739012400-1739034000@mtk-gegen-rechts.de
SUMMARY:Idstein für Demokratie und Menschlichkeit\, gegen Hass und Rückschritt
DESCRIPTION:Für Demokratie und Menschlichkeit\, gegen Hass und Rückschritt\nKundgebung auf dem König-Adolf-Platz (Vor dem Rathaus) Istein \nSamstag\, 08.02.\, 11:00 Uhr \nVeranstalterinnen: Omas gegen rechts\nhttps://www.demokrateam.org/aktionen/fuer-demokratie-und-menschlichkeit-gegen-hass-und-rueckschritt/
URL:https://mtk-gegen-rechts.de/event/fuer-demokratie-und-menschlichkeit-gegen-hass-und-rueckschritt/
LOCATION:Idstein
END:VEVENT
BEGIN:VEVENT
DTSTART;TZID=Europe/Berlin:20250211T183000
DTEND;TZID=Europe/Berlin:20250211T210000
DTSTAMP:20260424T061329
CREATED:20250203T082714Z
LAST-MODIFIED:20250203T082714Z
UID:1147-1739298600-1739307600@mtk-gegen-rechts.de
SUMMARY:Omas (u.a.) gegen Rechts – Kelkheim
DESCRIPTION:Gründung der Initiative\n„Omas gegen Rechts / Eltern gegen Rechts“  – Kelkheim. \nDienstag\, 11. Februar\, 18:30\, Cafeteria des Rathauses Kelkheim. \nhttps://www.taunus-nachrichten.de/kelkheim/nachrichten/kelkheim/gruendung-initiative-omas-gegen-rechts-eltern-gegen-rechts-id175693.html
URL:https://mtk-gegen-rechts.de/event/omas-u-a-gegen-rechts-kelkheim/
LOCATION:Kalkheim\, Rathaus
END:VEVENT
BEGIN:VEVENT
DTSTART;TZID=Europe/Berlin:20250211T190000
DTEND;TZID=Europe/Berlin:20250211T210000
DTSTAMP:20260424T061329
CREATED:20250203T093610Z
LAST-MODIFIED:20250203T093706Z
UID:1155-1739300400-1739307600@mtk-gegen-rechts.de
SUMMARY:Offenes Treffen MTK gegen Rechts
DESCRIPTION:offenes Treffen des Bündnisses MTK gegen Rechts.\nDienstag\, 11. Februar\, 19 Uhr\nOrt bitte sicherheitshalber erfragen unter:\ninfo@mtk-gegen-rechts.de
URL:https://mtk-gegen-rechts.de/event/offenes-treffen-mtk-gegen-rechts-2/
END:VEVENT
BEGIN:VEVENT
DTSTART;TZID=Europe/Berlin:20250214T110000
DTEND;TZID=Europe/Berlin:20250214T140000
DTSTAMP:20260424T061329
CREATED:20250116T213253Z
LAST-MODIFIED:20250116T213253Z
UID:1080-1739530800-1739541600@mtk-gegen-rechts.de
SUMMARY:Infostand in Schwalbach
DESCRIPTION:#WahlkampfGegenRechts\nKommt vorbei und macht mit! \n14.02.\, 11 bis 14 Uhr\nSchwalbach\, Fußgängerzone
URL:https://mtk-gegen-rechts.de/event/infostand-in-schwalbach-3/
LOCATION:Schwalbach\, Fußgängerzone
END:VEVENT
BEGIN:VEVENT
DTSTART;TZID=Europe/Berlin:20250214T180000
DTEND;TZID=Europe/Berlin:20250214T210000
DTSTAMP:20260424T061329
CREATED:20250128T094117Z
LAST-MODIFIED:20250128T094142Z
UID:1123-1739556000-1739566800@mtk-gegen-rechts.de
SUMMARY:Autoritäre Versuchungen: Rechter Populismus und Fake News – Gefahren und Herausforderungen für die Demokratie
DESCRIPTION:»Autoritäre Versuchungen: Rechter Populismus und Fake News – Gefahren und Herausforderungen für die Demokratie«\,\nVeranstaltung des Ausländerbeirats Hofheim\,\nFreitag\, 14. Februar\, 18 Uhr\, Stadthalle Hofheim\, Obergeschos\n\nProf. Dr. Benno Hafeneger von der Universität Marburg und Enis Gülegen\,  Vorsitzender der Arbeitsgeheinschaft Ausländerbeiräte in Hessen (agah) werden die aktuellen Entwicklungen des Rechtspopulismus und deren Auswirkungen auf die Gesellschaft kritisch beleuchten. Die Veranstaltung widmet sich der Analyse dieser Radikalisierungstendenzen und beschäftigt sich mit der Frage\, inwiefern die Stabilität unserer Demokratie gewährleistet ist und welche Strategien zu ihrer Bewahrung geeignet sind.\nEintritt frei\, Anmeldung nicht erforderlich.
URL:https://mtk-gegen-rechts.de/event/autoritaere-versuchungen-rechter-populismus-und-fake-news-gefahren-und-herausforderungen-fuer-die-demokratie/
LOCATION:Hofheim\, Stadthalle
END:VEVENT
BEGIN:VEVENT
DTSTART;TZID=Europe/Berlin:20250215T100000
DTEND;TZID=Europe/Berlin:20250215T130000
DTSTAMP:20260424T061329
CREATED:20250116T220804Z
LAST-MODIFIED:20250116T220825Z
UID:1097-1739613600-1739624400@mtk-gegen-rechts.de
SUMMARY:Infostand in Hofheim
DESCRIPTION:#WahlkampfGegenRechts\nKommt vorbei und macht mit! \nHofheim\, 15. Februar\, 10 bis 13 Uhr\nUntere Hauptstraße
URL:https://mtk-gegen-rechts.de/event/infostand-in-hofheim-2/
LOCATION:Hofheim\, Hauptstraße
END:VEVENT
BEGIN:VEVENT
DTSTART;TZID=Europe/Berlin:20250215T110000
DTEND;TZID=Europe/Berlin:20250215T170000
DTSTAMP:20260424T061329
CREATED:20250126T083929Z
LAST-MODIFIED:20250205T095022Z
UID:1112-1739617200-1739638800@mtk-gegen-rechts.de
SUMMARY:»Mehr Demokratie« - Kundgebung in Eppstein
DESCRIPTION:»Mehr Demokratie«\nKundgebung\nSamstag\, 15.02.\, 11 Uhr vor dem Rathaus in Vockenhausen \nDer Asylkreis Eppstein ruft zusammen mit der evangelischen Talkirchengemeinde und der Emmausgemeinde für den 15.02.\, 11 Uhr vor zu einer Kundgebung für »Mehr Demokratie« auf und wirbt für die Teilnahme an der Bundestagswahl und die Wahl demokratischer Parteien. \nOrt: Rathaus 1 (Vockenhausen)\nAnmelder: Asylkreis Eppstein; ev. Talkirchengemeinde
URL:https://mtk-gegen-rechts.de/event/mehr-demokratie-kundgebung-in-eppstein/
END:VEVENT
BEGIN:VEVENT
DTSTART;TZID=Europe/Berlin:20250215T115500
DTEND;TZID=Europe/Berlin:20250215T180000
DTSTAMP:20260424T061329
CREATED:20250116T213656Z
LAST-MODIFIED:20250116T213656Z
UID:1082-1739620500-1739642400@mtk-gegen-rechts.de
SUMMARY:Wähl Liebe - 5 vor 12 Demo - Frankfurt
DESCRIPTION:Demo\n15.02. – Frankfurt – Römerberg\nals Teil einer bundesweiten Aktion \nhttps://csd-frankfurt.de/waehl-liebe/
URL:https://mtk-gegen-rechts.de/event/waehl-liebe-5-vor-12-demo-frankfurt/
LOCATION:Frankfurt\, Römerberg
END:VEVENT
BEGIN:VEVENT
DTSTART;TZID=Europe/Berlin:20250215T160000
DTEND;TZID=Europe/Berlin:20250215T180000
DTSTAMP:20260424T061329
CREATED:20250212T183112Z
LAST-MODIFIED:20250212T183112Z
UID:1175-1739635200-1739642400@mtk-gegen-rechts.de
SUMMARY:Vielfalt feiern – Demokratie wählen!
DESCRIPTION:  \n \n15. Februar 2025 vor dem Steinbacher Bürgerhaus. \nEine Woche vor den Bundestagswahlen am 23.02. wollen wir gemeinsam zeigen\, dass Demokratie und Menschenrechte für alle Menschen wichtig sind – ob jung oder alt\, ob wahlberechtigt oder nicht. \nDas Bündnis Buntes Steinbach und seine Partner:innen freuen sich auf eine bunte und zahlreiche Teilnahme sowie einen lebendigen Austausch mit allen Anwesenden. Gemeinsam setzen wir ein Zeichen für Vielfalt\, Zusammenhalt und demokratische Werte. \nDas Fest beginnt um 16:00 Uhr und dauert etwa 1\,5 Stunden. Es gibt heiße Getränke\, Fingerfood\, musikalische und kulturelle Beiträge und die Gelegenheit zum Austausch. \nhttps://www.demokrateam.org/aktionen/vielfalt-feiern-demokratie-waehlen/
URL:https://mtk-gegen-rechts.de/event/vielfalt-feiern-demokratie-waehlen/
LOCATION:Steinbach
END:VEVENT
BEGIN:VEVENT
DTSTART;TZID=Europe/Berlin:20250216T183000
DTEND;TZID=Europe/Berlin:20250216T210000
DTSTAMP:20260424T061329
CREATED:20250203T084033Z
LAST-MODIFIED:20250203T084308Z
UID:1150-1739730600-1739739600@mtk-gegen-rechts.de
SUMMARY:Geboren\, aufgewachsen und ermordet in Deutschland
DESCRIPTION:Lesung zum 5. Jahrestag der Attentate von Hanau\nSonntag\, 16.02. in der TV 1883 Halle Bischofsheim (Kreis Groß-Gerau). \nhttps://miteinander-in-der-mainspitze.de/lesung-25/
URL:https://mtk-gegen-rechts.de/event/geboren-aufgewachsen-und-ermordet-in-deutschland/
LOCATION:Rheinstr.49\, 65474 Bischofsheim
END:VEVENT
BEGIN:VEVENT
DTSTART;TZID=Europe/Berlin:20250219T180000
DTEND;TZID=Europe/Berlin:20250219T200000
DTSTAMP:20260424T061329
CREATED:20250212T182705Z
LAST-MODIFIED:20250212T182734Z
UID:1171-1739988000-1739995200@mtk-gegen-rechts.de
SUMMARY:Demokratie bewahren
DESCRIPTION:19.02.25 \, 18 Uhr\, Epinayplatz Oberursel \nEine Gruppe von Menschen hat sich spontan zusammen gefunden\, um eine Demonstration in Oberursel\, dem Gründungsort der AfD\, zu organisieren. \nUnter dem Motto “Demokratie bewahren – Deine Stimme zählt!” lädt sie alle Bürgerinnen und Bürger ein\, gemeinsam auf dem Epinay-Platz Flagge zu zeigen. Anlass ist die sich zuspitzende politische Entwicklung gegen ein vielfältiges gesellschaftliches Zusammenleben. \n“Nach der Wahl ist es zu spät – jetzt muss allen Wählerinnen und Wählern klar sein\, dass sie mit ihrer Stimme die Zukunft der Demokratie in Händen halten”\, so Dr. Claudia von Eisenhart Rothe\, die die Versammlung bereits bei den Ordnungsbehörden angemeldet hat. \nJede nicht abgegebene Stimme stärkt die extremistischen Kräfte\, weshalb die Stimmabgabe für die demokratischen Parteien besonders wichtig ist. Die freiheitlichen Werte\, das vielfältige Miteinander und die Wertschätzung unter den Menschen sind in Gefahr. Auch Neu- oder Erstwählerinnen und -wähler\, die stark durch Desinformation auf Social-Media-Plattformen wie TikTok beeinflusst wurden\, wolle man mit der Demonstration erreichen. Es gilt\, die demokratische Freiheit zu bewahren. \nhttps://www.demokrateam.org/aktionen/demokratie-bewahren-deine-stimme-zaehlt/
URL:https://mtk-gegen-rechts.de/event/demokratie-bewahren/
LOCATION:Oberursel
END:VEVENT
BEGIN:VEVENT
DTSTART;TZID=Europe/Berlin:20250220T180000
DTEND;TZID=Europe/Berlin:20250220T200000
DTSTAMP:20260424T061329
CREATED:20250219T162819Z
LAST-MODIFIED:20250219T162942Z
UID:1208-1740074400-1740081600@mtk-gegen-rechts.de
SUMMARY:5 Jahre 19. Februar 2020
DESCRIPTION:Zum Gedenken an Said Nesar Hashemi\, Hamza Kenan Kurtović\, Ferhat Unvar\, Sedat Gürbüz\, Fatih Saraçoğlu\, Gökhan Gültekin\, Vili Viorel Păun\, Mercedes Kierpacz und Kaloyan Velkov\, die am 19. Februar 2020 von einem Rassisten systematisch ermordet wurden. \nGedenkveranstaltung\n20.02.\, 18 Uhr – Rathausvorplatz Schwalbach \nhttps://mtk-gegen-rechts.de/2025/02/19/19-februar-2020-5-jahre/
URL:https://mtk-gegen-rechts.de/event/5-jahre-19-februar-2020/
LOCATION:Schwalbach\, Rathausvorplatz
END:VEVENT
BEGIN:VEVENT
DTSTART;TZID=Europe/Berlin:20250221T143000
DTEND;TZID=Europe/Berlin:20250221T160000
DTSTAMP:20260424T061329
CREATED:20250116T212802Z
LAST-MODIFIED:20250116T212802Z
UID:1073-1740148200-1740153600@mtk-gegen-rechts.de
SUMMARY:Infostand in Hattersheim
DESCRIPTION:#WahlkampfGegenRechts\nKommt vorbei und macht mit! \n21.02.\, 14:30 bis 16 Uhr\nHattersheim\, Markt
URL:https://mtk-gegen-rechts.de/event/infostand-in-hattersheim-3/
LOCATION:Hattersheim\, Markt
END:VEVENT
BEGIN:VEVENT
DTSTART;TZID=Europe/Berlin:20250222T100000
DTEND;TZID=Europe/Berlin:20250222T130000
DTSTAMP:20260424T061329
CREATED:20250116T220918Z
LAST-MODIFIED:20250116T220918Z
UID:1100-1740218400-1740229200@mtk-gegen-rechts.de
SUMMARY:Infostand in Hofheim
DESCRIPTION:#WahlkampfGegenRechts\nKommt vorbei und macht mit! \nHofheim\, 22. Februar\, 10 bis 13 Uhr\nUntere Hauptstraße
URL:https://mtk-gegen-rechts.de/event/infostand-in-hofheim-3/
LOCATION:Hofheim\, Hauptstraße
END:VEVENT
BEGIN:VEVENT
DTSTART;TZID=Europe/Berlin:20250222T163000
DTEND;TZID=Europe/Berlin:20250222T200000
DTSTAMP:20260424T061329
CREATED:20250128T094512Z
LAST-MODIFIED:20250128T094512Z
UID:1128-1740241800-1740254400@mtk-gegen-rechts.de
SUMMARY:Gemeinsam für Toleranz und Menschlichkeit – den Rechtsruck stoppen!
DESCRIPTION:Demo „Gemeinsam für Toleranz und Menschlichkeit\n– den Rechtsruck stoppen!“\,\nWiesbaden\, Samstag\, 22. Februar\, 16.30 Uhr Hauptbahnhof \nDas Wiesbadener Bündnis gegen Rechts ruft am Tag vor der Wahl zum Protest gegen Rassismus\, Queerfeindlichkeit\, Antifeminismus\, Antisemitismus\, Ableismus und Faschismus auf. \nhttps://wiesbadengegenrechts.blackblogs.org/
URL:https://mtk-gegen-rechts.de/event/gemeinsam-fuer-toleranz-und-menschlichkeit-den-rechtsruck-stoppen/
LOCATION:Wiesbaden
END:VEVENT
BEGIN:VEVENT
DTSTART;TZID=Europe/Berlin:20250224T190000
DTEND;TZID=Europe/Berlin:20250224T213000
DTSTAMP:20260424T061329
CREATED:20250116T213859Z
LAST-MODIFIED:20250116T213859Z
UID:1086-1740423600-1740432600@mtk-gegen-rechts.de
SUMMARY:Solidarischer Raum - Hofheim
DESCRIPTION:Zu einem offenen Austausch über das Wahlergebnis laden wir Euch ein für den Montag nach der Bundestagswahl\, 24. Februar\, ab 19 Uhr im Solidarischen Raum im Bürgerhaus Marxheim. Wir organisieren Getränke\, wer möchte kann eine Kleinigkeit zum Essen mitbringen.
URL:https://mtk-gegen-rechts.de/event/solidarischer-raum-hofheim/
LOCATION:Hofheim\, Solidarischer Raum
END:VEVENT
END:VCALENDAR