BEGIN:VCALENDAR
VERSION:2.0
PRODID:-//mtk gegen rechts - ECPv6.15.20//NONSGML v1.0//EN
CALSCALE:GREGORIAN
METHOD:PUBLISH
X-ORIGINAL-URL:https://mtk-gegen-rechts.de
X-WR-CALDESC:Veranstaltungen für mtk gegen rechts
REFRESH-INTERVAL;VALUE=DURATION:PT1H
X-Robots-Tag:noindex
X-PUBLISHED-TTL:PT1H
BEGIN:VTIMEZONE
TZID:Europe/Berlin
BEGIN:DAYLIGHT
TZOFFSETFROM:+0100
TZOFFSETTO:+0200
TZNAME:CEST
DTSTART:20240331T010000
END:DAYLIGHT
BEGIN:STANDARD
TZOFFSETFROM:+0200
TZOFFSETTO:+0100
TZNAME:CET
DTSTART:20241027T010000
END:STANDARD
BEGIN:DAYLIGHT
TZOFFSETFROM:+0100
TZOFFSETTO:+0200
TZNAME:CEST
DTSTART:20250330T010000
END:DAYLIGHT
BEGIN:STANDARD
TZOFFSETFROM:+0200
TZOFFSETTO:+0100
TZNAME:CET
DTSTART:20251026T010000
END:STANDARD
BEGIN:DAYLIGHT
TZOFFSETFROM:+0100
TZOFFSETTO:+0200
TZNAME:CEST
DTSTART:20260329T010000
END:DAYLIGHT
BEGIN:STANDARD
TZOFFSETFROM:+0200
TZOFFSETTO:+0100
TZNAME:CET
DTSTART:20261025T010000
END:STANDARD
END:VTIMEZONE
BEGIN:VEVENT
DTSTART;TZID=Europe/Berlin:20250504T170000
DTEND;TZID=Europe/Berlin:20250504T210000
DTSTAMP:20260424T021253
CREATED:20250421T162553Z
LAST-MODIFIED:20250421T162553Z
UID:1288-1746378000-1746392400@mtk-gegen-rechts.de
SUMMARY:Befreiung - The Sound of Peace
DESCRIPTION:Musikalische Gedanken zum Ende des\n2. Weltkrieges vor 80 Jahren \n04. Mai 2025 \nStadthalle Flörsheim – 17.00 Uhr\nKapellenstraße 1\, Flörsheim \nGesellschaft für Christlich-Jüdische-Zusammenarbeit
URL:https://mtk-gegen-rechts.de/event/befreiung-the-sound-of-peace/
LOCATION:Stadthalle Flörsheim\, Kapellenstraße 1\, Flörsheim am Main\, Germany
END:VEVENT
BEGIN:VEVENT
DTSTART;TZID=Europe/Berlin:20250505T190000
DTEND;TZID=Europe/Berlin:20250505T210000
DTSTAMP:20260424T021253
CREATED:20250417T092607Z
LAST-MODIFIED:20250421T164640Z
UID:1267-1746471600-1746478800@mtk-gegen-rechts.de
SUMMARY:der Solidarische Raum – Thema: Bezahlkarte
DESCRIPTION:Montag\, 05. Mai\, 19 Uhr. \nThema: Bezahlkarte für Geflüchtete. Hintergründe und solidarische Alternativen. \nDie »Bezahlkarte«\, ein zentrales Projekt der alten wie der neuen Bundesregierung\, soll im Laufe des Jahres auch im Main-Taunus-Kreis eingeführt werden. Geflüchtete im Asylverfahren erhalten dann kein Girokonto mehr\, sondern eine Debit-Karte\, von der sie nur eingeschränkt überweisen und maximal 50 Euro abheben können. Dagegen gibt es Widerstand und  Initiativen\, die Betroffenen weiterhin Zugang zu Bargeld ermöglichen.\n \nIm Solidarischen Raum wollen wir uns zum Thema Bezahlkarte und ihren Auswirkungen schlau machen und diskutieren\, wie wir konkret hier im MTK Solidarität mit Geflüchteten üben können. \n \nDer Solidarische Raum ist ein offenes Treffen für Austausch und Diskussion. Jeden ersten Montag im Monat (und manchmal auch zwischendurch) im Bürgerhaus Marxheim (Hintereingang / Jugendraum)
URL:https://mtk-gegen-rechts.de/event/der-solidarische-raum-thema-bezahlkarte/
LOCATION:Bürgerhaus Marxheim
END:VEVENT
BEGIN:VEVENT
DTSTART;TZID=Europe/Berlin:20250508T170000
DTEND;TZID=Europe/Berlin:20250508T190000
DTSTAMP:20260424T021253
CREATED:20250416T165932Z
LAST-MODIFIED:20250416T170051Z
UID:1262-1746723600-1746730800@mtk-gegen-rechts.de
SUMMARY:Demonstration - 8. Mai Tag der Befreiung - Wiesbaden
DESCRIPTION:Gegen das Vergessen! Gegen den Faschismus!\nFür einen Feiertag am 8. Mai.\n8. Mai 2025\, 17 Uhr Wiesbaden Hauptbahnhof.\nAbschlusskundgebung am Deportationsdenkmal Schlachthoframpe. \n \nhttps://wiesbadengegenrechts.blackblogs.org/
URL:https://mtk-gegen-rechts.de/event/demonstration-8-mai-tag-der-befreiung-wiesbaden/
LOCATION:Wiesbaden Hauptbahnhof\, Hauptbahnhof\, Wiesbaden
END:VEVENT
BEGIN:VEVENT
DTSTART;TZID=Europe/Berlin:20250508T190000
DTEND;TZID=Europe/Berlin:20250508T220000
DTSTAMP:20260424T021253
CREATED:20250410T104200Z
LAST-MODIFIED:20250417T120512Z
UID:1232-1746730800-1746741600@mtk-gegen-rechts.de
SUMMARY:Antifaschistischer Filmabend: Ich war neunzehn (DEFA 1968)
DESCRIPTION:Donnerstag\, 8. Mai 2025\, 19 Uhr\, Bürgerhaus Marxheim\, Ahornstraße 11\nEintritt frei \n \nApril 1945. In der Uniform eines sowjetischen Leutnants kommt der 19-jährige Deutsche Gregor Hecker in seine Heimat zurück. Er war acht\, als seine Eltern mit ihm nach Moskau emigrierten. Vom 16. April bis zum 2. Mai fährt er im sowjetischen Militärfahrzeug auf dem Weg der 48. Armee von der Oder nördlich an Berlin vorbei. Mit einem Lautsprecher fordert Gregor die noch vereinzelt kämpfenden Soldaten zum Überlaufen auf. Einige kommen\, andere antworten mit Schüssen. Täglich begegnet Gregor Menschen unterschiedlicher Art\, hoffnungsvollen\, verwirrten\, verzweifelten. Regisseur Konrad Wolf verfilmte mit »Ich war neunzehn« seine eigenen Erinnerungen. Der Film wurde zu einem vielschichtigen Zeitdokument über die letzten Tage Nazi-Deutschlands bis zur Befreiung vom Faschismus. \n \nOrganisiert von DIE LINKE. Main-Taunus
URL:https://mtk-gegen-rechts.de/event/antifaschistischer-filmabend-ich-war-neunzehn-defa-1968/
LOCATION:Bürgerhaus Marxheim
END:VEVENT
BEGIN:VEVENT
DTSTART;TZID=Europe/Berlin:20250509T190000
DTEND;TZID=Europe/Berlin:20250509T210000
DTSTAMP:20260424T021253
CREATED:20250410T104709Z
LAST-MODIFIED:20250410T104709Z
UID:1237-1746817200-1746824400@mtk-gegen-rechts.de
SUMMARY:Stimmen zum Kriegsende in Musik und Texten
DESCRIPTION:Freitag\, 9. Mai\, 19 Uhr\, Gemeindehaus Diedenbergen\, Casteller Straße 37\nEintritt frei\, Getränke auf Spendenbasis \n \nMusik: Judith Herrmann spielt am Klavier Tango\, Bach\, Ravel\, Cage und Schostakowitsch. \nTexte aus Walter Kempowski: »Das Echolot\, Abgesang 45\, ein kollektives Tagebuch«. \nGelesen von Frauen im Literaturkreis des Kulturvereins Diedenbergen.
URL:https://mtk-gegen-rechts.de/event/stimmen-zum-kriegsende-in-musik-und-texten/
LOCATION:Gemeindehaus Diedenbergn\, Casteller Straße 37\, Hofheim-Diedenbergen\, 65719\, Germany
END:VEVENT
BEGIN:VEVENT
DTSTART;TZID=Europe/Berlin:20250511T110000
DTEND;TZID=Europe/Berlin:20250511T130000
DTSTAMP:20260424T021253
CREATED:20250506T134904Z
LAST-MODIFIED:20250507T054257Z
UID:1306-1746961200-1746968400@mtk-gegen-rechts.de
SUMMARY:AfD-Verbot jetzt! Kundgebung in Hofheim
DESCRIPTION:Aufruf zur Kundgebung für ein AfD-Verbot\nHofheim\, Sonntag\, 11. Mai\, Kellereiplatz \nNachdem der Verfassungsschutz die gesamte AfD als »gesichert rechtsextremistisch« eingestuft hat\, wird am kommenden Sonntag\, 11. Mai\, in vielen Städten für eine Prüfung eines AfD-Verbots protestiert. \nAuch das Bündnis MTK gegen Rechts beteiligt sich an dem bundesweiten Aktionstag. \n \nhttps://afd-verbot.jetzt/ \nSpätestens seit dem Gutachten des Bundesverfassungsschutzes ist klar: Die AfD ist keine normale Partei und darf auch nicht als solche behandelt werden. Jetzt ist es an der Zeit\, das Parteiverbot ernsthaft zu prüfen. Zudem darf es in den Parlamenten keinerlei Kooperation mit der AfD geben. Dass die Brandmauer halten muss\, sollte nun selbstverständlich sein. Die demokratischen Parteien sollten sich zudem inhaltlich nicht länger von der AfD treiben lassen\, sondern ihrer menschenfeindlichen und rassistischen Politik wertebasierte Konzepte für eine solidarische Gesellschaft entgegensetzen. 80 Jahre nach der Befreiung vom Faschismus muss der rechtsextreme Vormarsch in Deutschland gestoppt werden\, solange dies noch möglich ist. \nBitte kommt zahlreich und leitet den Aufruf gerne über Eure Verteiler weiter!
URL:https://mtk-gegen-rechts.de/event/afd-verbot-jetzt-kundgebung-in-hofheim/
LOCATION:Hofheim\, Kellereiplatz\, Kellereiplatz\, Hofheim\, Hessen\, 65719\, Germany
END:VEVENT
BEGIN:VEVENT
DTSTART;TZID=Europe/Berlin:20250511T160000
DTEND;TZID=Europe/Berlin:20250511T180000
DTSTAMP:20260424T021253
CREATED:20250410T105216Z
LAST-MODIFIED:20250410T105216Z
UID:1242-1746979200-1746986400@mtk-gegen-rechts.de
SUMMARY:Führung über den jüdischen Friedhof Flörsheim
DESCRIPTION:Sonntag\, 11. Mai\, 16 Uhr\, Keramag/Falkenberg\,\nTreffpunkt am Eingang des Friedhofs.\n[Männer müssen eine Kopfbedeckung tragen] \n \nDer jüdische Friedhof von Flörsheim am Main ist ein Kulturdenkmal und eine Holocaustgedenkstätte. Er liegt außerhalb der Ortslage in der Nähe des Wickerbachs. Der Friedhof wurde im Pestjahr 1666 angelegt und war früher dicht belegt. Aufgrund seiner Schändung zur Zeit des Nationalsozialismus stehen heute lediglich noch neun jüdische Grabsteine und eine 1947 errichtete Gedenktafel. \nWerner Schiele\, der seit Jahrzehnten über jüdische Geschichte in Flörsheim forscht\, führt über den Friedhof.
URL:https://mtk-gegen-rechts.de/event/fuehrung-ueber-den-juedischen-friedhof-floersheim/
LOCATION:Jüdischer Friedhof Flörsheim\, Keramag / Falkenberg\, Flörsheim am Main\, 65439\, Germany
END:VEVENT
BEGIN:VEVENT
DTSTART;TZID=Europe/Berlin:20250514T090000
DTEND;TZID=Europe/Berlin:20250514T130000
DTSTAMP:20260424T021253
CREATED:20250421T155148Z
LAST-MODIFIED:20250421T162724Z
UID:1279-1747213200-1747227600@mtk-gegen-rechts.de
SUMMARY:Rassismuskritisch leben lernen - Infostand Hofheim
DESCRIPTION:Hofheim\, Hauptstraße\nInfostand zum Thema\n*Rassismuskritisch leben lernen*\nam 14. Mai von 09-13h in der Hauptstraße\n\nAls Einstieg in das Thema liegen Bücher und viele Informationen bereit\, die Anlass zu Gesprächen bieten.
URL:https://mtk-gegen-rechts.de/event/rassismuskritisch-leben-lernen-infostand-hofheim/
LOCATION:Hofheim\, Hauptstraße
END:VEVENT
BEGIN:VEVENT
DTSTART;TZID=Europe/Berlin:20250517T190000
DTEND;TZID=Europe/Berlin:20250517T230000
DTSTAMP:20260424T021253
CREATED:20250401T152536Z
LAST-MODIFIED:20250425T081421Z
UID:1228-1747508400-1747522800@mtk-gegen-rechts.de
SUMMARY:Film: The Return / Die Rückkehr
DESCRIPTION:Ein südafrikanischer Blick auf (deutsche) Erinnerungskämpfe zwischen Holocaust\, Rassismus und kolonialer Gewalt \nFilmvorführung und Diskussion \n \nThe Return / Die Rückkehr ist ein südafrikanischer Dokumentarfilm\, der die Nachwirkungen von Holocaust und Antisemitismus\, aber auch der Apartheid\, kolonialer Gewalt\, des heutigen Rassismus und Israel/Palästinas anhand der verflochtenen Geschichten von südafrikanischen und deutschen Gesprächspartner*innen erforscht\, die Teil von Erinnerungskämpfen sind. Er zeigt Brüche und Zusammenhänge zwischen Ideologien und Strukturen und ergründet die Rückkehr von »white supremacy« und Faschismus in der heutigen Zeit. \nAusgehend von der Familiengeschichte von Heidi Grunebaum bewegt sich der Film zwischen Südafrika und Deutschland und von dort auch zu der umstrittenen Bedeutung\, die Israel für die deutsche Erinnerungspolitik hat. \nDie Filmemacher*innen Mark Kaplan (Emmy Award-ausgezeichneter Regisseur) und Heidi Grunebaum (Autorin und Erzählerin) sind jüdische Südafrikaner*innen\, deren Familien vor den Nazis ins südliche Afrika geflohen waren und die sich seit vielen Jahren zu Menschenrechtsverbrechen\, Antirassismus und postkolonialer Gerechtigkeit engagieren. \nFilm (96min) und Diskussion (60min) sind in deutscher und englischer Sprache mit Übersetzung. \nKino Kelkheim\nRotlintallee 2\n65779 Kelkheim \nhttps://kino-kelkheim.de/
URL:https://mtk-gegen-rechts.de/event/the-return-die-rueckkehr/
LOCATION:Kino Kelkheim\, Rotlintallee 2\, Kelkheim\, 65779\, Germany
END:VEVENT
BEGIN:VEVENT
DTSTART;TZID=Europe/Berlin:20250522T183000
DTEND;TZID=Europe/Berlin:20250522T210000
DTSTAMP:20260424T021253
CREATED:20250410T110107Z
LAST-MODIFIED:20250410T110156Z
UID:1249-1747938600-1747947600@mtk-gegen-rechts.de
SUMMARY:Gedenken an die Opfer des NS-Regimes / Kundgebung
DESCRIPTION:Donnerstag\, 22. Mai\, 18.30 Uhr\, Hofheim\, Tivertonplatz \n \nUnter dem NS-Regime wurden Millionen von Menschen ermordet. Der systematische\, staatlich organisierte Völkermord an Juden und Jüdinnen ging als Holocaust in die Geschichte ein. Die Nationalsozialisten verfolgten und töteten auch weitere Gruppen\, darunter Sinti und Roma\, politische Gegner*innen\, Menschen mit Behinderung oder Deserteure. \nAn diesem Abend stellen wir beispielhaft einige Biografien von NS-Opfern aus dem Main-Taunus-Kreis vor und warnen: Nie wieder ist jetzt!
URL:https://mtk-gegen-rechts.de/event/gedenken-an-die-opfer-des-ns-regimes-kundgebung/
LOCATION:Tivertonplatz\, Tivertonplatz\, Hofheim\, 65719\, Germany
END:VEVENT
BEGIN:VEVENT
DTSTART;TZID=Europe/Berlin:20250526T190000
DTEND;TZID=Europe/Berlin:20250526T210000
DTSTAMP:20260424T021253
CREATED:20250421T163234Z
LAST-MODIFIED:20250521T075213Z
UID:1291-1748286000-1748293200@mtk-gegen-rechts.de
SUMMARY:MTK gegen Rechts - Bündnistreffen
DESCRIPTION:offenes Treffen des Bündnisses MTK gegen Rechts.\nMontag\, 26. Mai\, 19 Uhr\nOrt bitte sicherheitshalber erfragen unter:\ninfo@mtk-gegen-rechts.de
URL:https://mtk-gegen-rechts.de/event/mtk-gegen-rechts-buendnistreffen/
END:VEVENT
BEGIN:VEVENT
DTSTART;TZID=Europe/Berlin:20250531T110000
DTEND;TZID=Europe/Berlin:20250531T170000
DTSTAMP:20260424T021253
CREATED:20250529T084747Z
LAST-MODIFIED:20250529T085028Z
UID:1339-1748689200-1748710800@mtk-gegen-rechts.de
SUMMARY:Proteste gegen den rechten Aufmarsch in Frankfurt
DESCRIPTION:Bereits zum vierten Mal versuchen Rechtsextreme koordiniert in mehreren Städten gleichzeitig aufzumarschieren. Am 31.05. erneut – auch in Frankfurt. \nMehrere Bündnisse protestieren dagegen am 31.05.: \n11:00 Uhr\, Willy-Brandt-Platz (angemeldet von attac) \n13:00 Uhr\, Thüringerstraße (am Zoo)  – Großkundgebung Antifaschistisches Aktionsbündnis. \n14:00 Uhr\, Paulsplatz (angemeldet von VVN-BdA) \n14:00 Uhr\, Römer (angemeldet von Omas gegen Rechts) \n 
URL:https://mtk-gegen-rechts.de/event/proteste-gegen-den-rechten-aufmarsch-in-frankfurt/
LOCATION:Frankfurt am Main
END:VEVENT
END:VCALENDAR