BEGIN:VCALENDAR
VERSION:2.0
PRODID:-//mtk gegen rechts - ECPv6.15.20//NONSGML v1.0//EN
CALSCALE:GREGORIAN
METHOD:PUBLISH
X-ORIGINAL-URL:https://mtk-gegen-rechts.de
X-WR-CALDESC:Veranstaltungen für mtk gegen rechts
REFRESH-INTERVAL;VALUE=DURATION:PT1H
X-Robots-Tag:noindex
X-PUBLISHED-TTL:PT1H
BEGIN:VTIMEZONE
TZID:Europe/Berlin
BEGIN:DAYLIGHT
TZOFFSETFROM:+0100
TZOFFSETTO:+0200
TZNAME:CEST
DTSTART:20240331T010000
END:DAYLIGHT
BEGIN:STANDARD
TZOFFSETFROM:+0200
TZOFFSETTO:+0100
TZNAME:CET
DTSTART:20241027T010000
END:STANDARD
BEGIN:DAYLIGHT
TZOFFSETFROM:+0100
TZOFFSETTO:+0200
TZNAME:CEST
DTSTART:20250330T010000
END:DAYLIGHT
BEGIN:STANDARD
TZOFFSETFROM:+0200
TZOFFSETTO:+0100
TZNAME:CET
DTSTART:20251026T010000
END:STANDARD
BEGIN:DAYLIGHT
TZOFFSETFROM:+0100
TZOFFSETTO:+0200
TZNAME:CEST
DTSTART:20260329T010000
END:DAYLIGHT
BEGIN:STANDARD
TZOFFSETFROM:+0200
TZOFFSETTO:+0100
TZNAME:CET
DTSTART:20261025T010000
END:STANDARD
END:VTIMEZONE
BEGIN:VEVENT
DTSTART;TZID=Europe/Berlin:20250705T110000
DTEND;TZID=Europe/Berlin:20250705T140000
DTSTAMP:20260424T002705
CREATED:20250627T103750Z
LAST-MODIFIED:20250627T104106Z
UID:1363-1751713200-1751724000@mtk-gegen-rechts.de
SUMMARY:Mahnwache der Friedensinitiative Main-Tanus
DESCRIPTION:05.07.25 von 11 bis 14 Uhr\nMahnwache der Friedensinitative Main-Taunus\nBad Soden\, Adlerstraße 2  \naus dem Aufruf: \nAm 24. Juni d.J. wurde beim NATO-Gipfel in Den Haag beschlossen\, dass alle europäischen NATO-Länder ihren jeweiligen Wehretat innerhalb der nächsten vier Jahre auf 5% des BIP anheben  müssen. Das würde für unser Land eine Verdreifachung der jetzigen Ausgaben auf über 234 Milliarden Euro jährlich\, knapp die Hälfte des gesamten Bundeshaushaltes bedeuten. Die Folge: Hohe Verschuldung und Abbau im Sozialbereich (Renten\, Bürgergeld\, Kindergrundsicherung\, Kitas\, Schulen\, Bahn\, Brücken u.v.m.). \nMehr als drei Jahre Krieg in der Ukraine haben gezeigt: Die Politik hat total versagt. Ständige Waffenlieferungen in die Ukraine haben die Gräuel des Krieges nicht verhindert\, sondern vermehrt. Europa hat es versäumt\, auf diplomatischem Weg ein Ende des Krieges zu erreichen. Auch wenn Putin zu Verhandlungen scheinbar nicht bereit ist\, muss dennoch immer wieder der Versuch unternommen werden\, ihn dazu zu bringen. Eine europäische Delegation sollte mit den Ländern in Kontakt treten\, die schon seit Langem eine Vermittlerrolle angeboten haben: China\, Brasilien\, Südafrika\, Indien und auch der Vatikan. \nWir sagen NEIN zu allen Bestrebungen\, die Militarisierung zu intensivieren. Die Spirale der Anhäufung immer gefährlicherer Waffen und deren Einsatz auf beiden Seiten muss gestoppt werden. \nFriedensinitiative Man-Taunus.
URL:https://mtk-gegen-rechts.de/event/mahnwache-der-friedensinitiative-main-tanus/
LOCATION:Bad Soden\, Adlerstraße 2\, Adlerstraße 2\, Bad Soden\, Germany
END:VEVENT
BEGIN:VEVENT
DTSTART;TZID=Europe/Berlin:20250707T190000
DTEND;TZID=Europe/Berlin:20250707T220000
DTSTAMP:20260424T002705
CREATED:20250605T070450Z
LAST-MODIFIED:20250627T132224Z
UID:1358-1751914800-1751925600@mtk-gegen-rechts.de
SUMMARY:Grillen im Solidarischen Raum
DESCRIPTION:Offenes Grillen im Solidarischen Raum.\nGelegenheit zum Kennenlernen\, Pläne Schmieden\, Zusammensein.\nGrillgut und Salate gern selbst mitbringen. Getränke und Geschirr sind da.\nAlle* sind herzlich willkommen. \n \nBürgerhaus Marxheim\, Hintereingang\nab 19 Uhr \n* Personen\, die rechtsextremen Parteien oder Organisationen angehören\, der rechtsextremen Szene zuzuordnen sind oder bereits in der Vergangenheit durch rassistisce\, antisemitische oder sonstige menschenverachtenden Äußerungen in Erscheinung getreten sind\, haben im Solidarischen Raum keinen Zutritt.
URL:https://mtk-gegen-rechts.de/event/der-solidarische-raum/
LOCATION:Bürgerhaus Marxheim
END:VEVENT
BEGIN:VEVENT
DTSTART;TZID=Europe/Berlin:20250729T190000
DTEND;TZID=Europe/Berlin:20250729T210000
DTSTAMP:20260424T002705
CREATED:20250531T094346Z
LAST-MODIFIED:20250729T120518Z
UID:1348-1753815600-1753822800@mtk-gegen-rechts.de
SUMMARY:MTK gegen Rechts - Offenes Treffen
DESCRIPTION:offenes Treffen des Bündnisses MTK gegen Rechts.\nMontag\, 29. Juli\, 19 Uhr \nOrt bitte sicherheitshalber erfragen unter:\ninfo@mtk-gegen-rechts.de
URL:https://mtk-gegen-rechts.de/event/mtk-gegen-rechst-offenes-treffen/
END:VEVENT
END:VCALENDAR