BEGIN:VCALENDAR
VERSION:2.0
PRODID:-//mtk gegen rechts - ECPv6.15.20//NONSGML v1.0//EN
CALSCALE:GREGORIAN
METHOD:PUBLISH
X-WR-CALNAME:mtk gegen rechts
X-ORIGINAL-URL:https://mtk-gegen-rechts.de
X-WR-CALDESC:Veranstaltungen für mtk gegen rechts
REFRESH-INTERVAL;VALUE=DURATION:PT1H
X-Robots-Tag:noindex
X-PUBLISHED-TTL:PT1H
BEGIN:VTIMEZONE
TZID:Europe/Berlin
BEGIN:DAYLIGHT
TZOFFSETFROM:+0100
TZOFFSETTO:+0200
TZNAME:CEST
DTSTART:20240331T010000
END:DAYLIGHT
BEGIN:STANDARD
TZOFFSETFROM:+0200
TZOFFSETTO:+0100
TZNAME:CET
DTSTART:20241027T010000
END:STANDARD
BEGIN:DAYLIGHT
TZOFFSETFROM:+0100
TZOFFSETTO:+0200
TZNAME:CEST
DTSTART:20250330T010000
END:DAYLIGHT
BEGIN:STANDARD
TZOFFSETFROM:+0200
TZOFFSETTO:+0100
TZNAME:CET
DTSTART:20251026T010000
END:STANDARD
BEGIN:DAYLIGHT
TZOFFSETFROM:+0100
TZOFFSETTO:+0200
TZNAME:CEST
DTSTART:20260329T010000
END:DAYLIGHT
BEGIN:STANDARD
TZOFFSETFROM:+0200
TZOFFSETTO:+0100
TZNAME:CET
DTSTART:20261025T010000
END:STANDARD
END:VTIMEZONE
BEGIN:VEVENT
DTSTART;TZID=Europe/Berlin:20250804T190000
DTEND;TZID=Europe/Berlin:20250804T210000
DTSTAMP:20260423T215240
CREATED:20250721T164500Z
LAST-MODIFIED:20250721T164529Z
UID:1377-1754334000-1754341200@mtk-gegen-rechts.de
SUMMARY:Solidarischer Raum – Thema: der Koalitionsvertrag
DESCRIPTION:im solidarischen Raum – Diskussion und Austausch über den Koalitionsvertrag. Was steht drin\, was nicht … und was zwischen den Zeilen? \nMontag\, 4. August\, 19:00 Uhr\nBürgerhaus Marxheim\, Hintereingang „Solidarischer Raum“ \nDer Solidarische Raum ist ein offenes* Treffen für Austausch und Diskussion. Jeden ersten Montag im Monat (und manchmal auch zwischendurch) im Bürgerhaus Marxheim (Hintereingang / Jugendraum) \n* Personen\, die rechtsextremen Parteien oder Organisationen angehören\, der rechtsextremen Szene zuzuordnen sind oder bereits in der Vergangenheit durch rassistisce\, antisemitische oder sonstige menschenverachtenden Äußerungen in Erscheinung getreten sind\, haben im Solidarischen Raum keinen Zutritt.
URL:https://mtk-gegen-rechts.de/event/solidarischer-raum-thema-der-koalitionsvertrag/
LOCATION:Bürgerhaus Marxheim
END:VEVENT
BEGIN:VEVENT
DTSTART;VALUE=DATE:20250822
DTEND;VALUE=DATE:20250825
DTSTAMP:20260423T215240
CREATED:20250721T165758Z
LAST-MODIFIED:20250721T165929Z
UID:1385-1755820800-1756079999@mtk-gegen-rechts.de
SUMMARY:Sommerschein Festival Hofheim
DESCRIPTION:mit unserem berüchtigten Info- und Mitmachstand\nauf dem Sommerschein-Festival Hofheim. \n22. bis 24.08.2025. Sportpark Heide\nHofheim \nhttps://sommerschein.de/ \n* beim Sommerschein regnet es NIE!
URL:https://mtk-gegen-rechts.de/event/sommerschein-festival-hofheim/
LOCATION:Hofheim\, Sportpark Heide
END:VEVENT
BEGIN:VEVENT
DTSTART;TZID=Europe/Berlin:20250826T190000
DTEND;TZID=Europe/Berlin:20250826T210000
DTSTAMP:20260423T215240
CREATED:20250531T094502Z
LAST-MODIFIED:20250531T094502Z
UID:1350-1756234800-1756242000@mtk-gegen-rechts.de
SUMMARY:MTK gegen Rechts - Offenes Treffen
DESCRIPTION:offenes Treffen des Bündnisses MTK gegen Rechts.\nMontag\, 26. August\, 19 Uhr \nOrt bitte sicherheitshalber erfragen unter:\ninfo@mtk-gegen-rechts.de
URL:https://mtk-gegen-rechts.de/event/mtk-gegen-rechts-offenes-treffen-2/
END:VEVENT
BEGIN:VEVENT
DTSTART;VALUE=DATE:20250829
DTEND;VALUE=DATE:20250830
DTSTAMP:20260423T215240
CREATED:20250605T065811Z
LAST-MODIFIED:20250605T065811Z
UID:1356-1756425600-1756511999@mtk-gegen-rechts.de
SUMMARY:Parking Day in Hofheim
DESCRIPTION:Parking Day Hofheim\n29.08.2025\nWeitere Infos folgen
URL:https://mtk-gegen-rechts.de/event/parking-day-in-hofheim/
END:VEVENT
BEGIN:VEVENT
DTSTART;TZID=Europe/Berlin:20250830T140000
DTEND;TZID=Europe/Berlin:20250830T220000
DTSTAMP:20260423T215240
CREATED:20250721T165249Z
LAST-MODIFIED:20250721T165249Z
UID:1382-1756562400-1756591200@mtk-gegen-rechts.de
SUMMARY:Sommer- und Friedensfest - die Linke Hofheim
DESCRIPTION:MTK gegen Rechts\nmit dabei auf dem Sommer- und Friedensfest der Partei „Die Linke“ \n30. August\, 14 bis 22 Uhr\nLudwig-Meidner-Platz\, Hofheim
URL:https://mtk-gegen-rechts.de/event/sommer-und-friedensfest-die-linke-hofheim/
LOCATION:Hofheim\, Ludwig-Meidner-Platz\, Ludwig-Meidner-Platz\, Hofheim\, 65719\, Germany
END:VEVENT
END:VCALENDAR