BEGIN:VCALENDAR
VERSION:2.0
PRODID:-//mtk gegen rechts - ECPv6.15.20//NONSGML v1.0//EN
CALSCALE:GREGORIAN
METHOD:PUBLISH
X-ORIGINAL-URL:https://mtk-gegen-rechts.de
X-WR-CALDESC:Veranstaltungen für mtk gegen rechts
REFRESH-INTERVAL;VALUE=DURATION:PT1H
X-Robots-Tag:noindex
X-PUBLISHED-TTL:PT1H
BEGIN:VTIMEZONE
TZID:Europe/Berlin
BEGIN:DAYLIGHT
TZOFFSETFROM:+0100
TZOFFSETTO:+0200
TZNAME:CEST
DTSTART:20240331T010000
END:DAYLIGHT
BEGIN:STANDARD
TZOFFSETFROM:+0200
TZOFFSETTO:+0100
TZNAME:CET
DTSTART:20241027T010000
END:STANDARD
BEGIN:DAYLIGHT
TZOFFSETFROM:+0100
TZOFFSETTO:+0200
TZNAME:CEST
DTSTART:20250330T010000
END:DAYLIGHT
BEGIN:STANDARD
TZOFFSETFROM:+0200
TZOFFSETTO:+0100
TZNAME:CET
DTSTART:20251026T010000
END:STANDARD
BEGIN:DAYLIGHT
TZOFFSETFROM:+0100
TZOFFSETTO:+0200
TZNAME:CEST
DTSTART:20260329T010000
END:DAYLIGHT
BEGIN:STANDARD
TZOFFSETFROM:+0200
TZOFFSETTO:+0100
TZNAME:CET
DTSTART:20261025T010000
END:STANDARD
END:VTIMEZONE
BEGIN:VEVENT
DTSTART;TZID=Europe/Berlin:20251006T190000
DTEND;TZID=Europe/Berlin:20251006T210000
DTSTAMP:20260423T190233
CREATED:20250914T181952Z
LAST-MODIFIED:20250914T182212Z
UID:1433-1759777200-1759784400@mtk-gegen-rechts.de
SUMMARY:Solidarischer Raum: »Ist die Demokratie noch zu retten?«
DESCRIPTION:Montag\, 6. Oktober\, 19:00 Uhr\nBürgerhaus Marxheim\, Hintereingang „Solidarischer Raum“ \nDer Solidarische Raum ist ein offenes* Treffen für Austausch und Diskussion. Jeden ersten Montag im Monat (und manchmal auch zwischendurch) im Bürgerhaus Marxheim (Hintereingang / Jugendraum) \n* Personen\, die rechtsextremen Parteien oder Organisationen angehören\, der rechtsextremen Szene zuzuordnen sind oder bereits in der Vergangenheit durch rassistisce\, antisemitische oder sonstige menschenverachtenden Äußerungen in Erscheinung getreten sind\, haben im Solidarischen Raum keinen Zutritt.
URL:https://mtk-gegen-rechts.de/event/solidarischer-raum-ist-die-demokratie-noch-zu-retten/
END:VEVENT
BEGIN:VEVENT
DTSTART;TZID=Europe/Berlin:20251013T193000
DTEND;TZID=Europe/Berlin:20251013T220000
DTSTAMP:20260423T190233
CREATED:20251006T074340Z
LAST-MODIFIED:20251006T074340Z
UID:1452-1760383800-1760392800@mtk-gegen-rechts.de
SUMMARY:Wiesbaden: Diskussionsveranstaltung. Wer wird zuerst verboten?
DESCRIPTION:  \nMontag\, 13. Oktober 2025 INFORMATIONS- und DISKUSSIONSVERANSTALTUNG WER WIRD ZUERST VERBOTEN ?
URL:https://mtk-gegen-rechts.de/event/wiesbaden-diskussionsveranstaltung-wer-wird-zuerst-verboten/
LOCATION:Kulturzentrum Schlachthof\, Murnau Straße 1\, Wiesbaden\, Germany
END:VEVENT
BEGIN:VEVENT
DTSTART;TZID=Europe/Berlin:20251016T190000
DTEND;TZID=Europe/Berlin:20251016T210000
DTSTAMP:20260423T190233
CREATED:20251004T135224Z
LAST-MODIFIED:20251013T153918Z
UID:1443-1760641200-1760648400@mtk-gegen-rechts.de
SUMMARY:"Rechtsextreme Strategien Heute" Vortrag und Diskussion in Ginsheim
DESCRIPTION:Vortrag und Diskussion \nmit: Jakob Helfrich (freier Journalist) und Jutta Scheick (Omas gegen Rechts)\n16.10.\, 19 Uhr\, Bürgerhaus Ginsheim \nGerade mal vor anderthalb Jahre etablierte die extreme Rechte den BEgriff der »Remigration«. Dagegen standen Millionen Bürger auf und gingen in Demonstrationen auf die Straße. Doch seither erzielt die extreme Rechte in Gestalt der AfD von Wahl zu Wahl Stimmengewinne\, ist vielerorts bereits zur zweitstärksten politischen Kraft geworden\, bei der Bundestagswahl hat sie die altehrwürdige SPD distanziert und macht sogar der CDU als stärkster Kraft Konkurrenz. \nWie konnte es dazu kommen? Wie hat diese bis vor kurzem noch als unseriös\, wenn nicht unmöglich geltende Partei solche Wählerzahlen hinter sich bringen können\, haben dazu auch die anderen Parteien beigetragen\, etwa indem sie Themen der AfD übernommen haben? Ist unsere Demokratie durch das Erstarken der extremen Rechten ernsthaft gefährdet\, droht ein neues 1933 – vor allem aber: Was lässt sich gegen eine Fortsetzung dieses Trends tun? Wollen wir tatenlos zusehen\, wie sich unser Land ähnlich den USA zum autoritären Staat wandelt oder mit welchen Mitteln\, Wegen und Strategien können wir die Freiheit und die Demokratie gegen diese Angriffe schützen? Hilft es zu versuchen\, die AfD inhaltlich zu stellen\, ihre Argumente aufzugreifen\, sie durch bessere Politik entbehrlich zu machen – oder sollte man zum drastischen Mittel des Parteiverbots greifen? \nDas zu analysieren\, Antworten auf diese Fragen zu versuchen und zu diskutieren hat sich „Miteinander in der Mainspitze“ zum Ziel gesetzt: In einer Veranstaltung am Donnerstag\, den 16.10.25 im Bürgerhaus Ginsheim (Kleiner Saal) werden Jakob Helfrich vom Medienprojekt „Jugendinfo“ und Jutta Shaikh vom Deutschland-Vorstand von „Omas gegen Rechts“ zu ihren Erfahrungen und Strategien berichten und diese mit interessierten Bürgern diskutieren. \nEine Veranstaltung von „Miteinander in der Mainspitze“_\nhttps://miteinander-in-der-mainspitze.de/
URL:https://mtk-gegen-rechts.de/event/rechtsextreme-strategien-heute-vortrag-und-diskussion/
LOCATION:Bürgerhaus Ginsheim\, Frankfurter Straße 39\, Ginsheim\, Hessen\, Germany
END:VEVENT
BEGIN:VEVENT
DTSTART;TZID=Europe/Berlin:20251019T110000
DTEND;TZID=Europe/Berlin:20251019T140000
DTSTAMP:20260423T190233
CREATED:20250804T145526Z
LAST-MODIFIED:20251013T153711Z
UID:1392-1760871600-1760882400@mtk-gegen-rechts.de
SUMMARY:Die Möllner Briefe - Film im Kino Hofheim
DESCRIPTION:»Die Möllner Briefe« (Dokumentarfilm\, 2025) \n \nDer Film thematisiert den rassistischen Brandanschlag von Mölln im Jahr 1992\, bei dem drei Menschen ums Leben kamen\, und verfolgt die Geschichte von İbrahim Arslan\, einem Überlebenden des Anschlags. Arslan erfuhr erst 2019 von den »Möllner Briefen»\, in denen Hunderte von Menschen ihre Anteilnahme und Solidarität mit den Opfern des Anschlags ausdrückten. Der Film folgt Arslans Spurensuche nach den Verfassern dieser Briefe und untersucht die Bedeutung der Erinnerung an den Anschlag sowie die Lücken in der deutschen Erinnerungskultur. Anlässlich der 75. Berlinale feierte der Film im Jahr 2025 in der Sektion Panorama seine Weltpremiere. \n19.10.2024 – 11 Uhr\nMatinee im Filmpalast Hofheim (Chinoncenter).\nAnschließend Gespräch mit der Regisseurin Martina Priessner. \nDie Möllner Briefe
URL:https://mtk-gegen-rechts.de/event/die-moellner-briefe-film-im-kino-hofheim/
LOCATION:Filmpalast Hofheim\, Chinonplatz 6\, 65719 Hofheim\, Germany
END:VEVENT
BEGIN:VEVENT
DTSTART;TZID=Europe/Berlin:20251019T170000
DTEND;TZID=Europe/Berlin:20251019T190000
DTSTAMP:20260423T190233
CREATED:20251018T081512Z
LAST-MODIFIED:20251018T081804Z
UID:1462-1760893200-1760900400@mtk-gegen-rechts.de
SUMMARY:»„Ich bin (auch) ein Problem im Stadtbild!« Kundgebung in Frankfurt
DESCRIPTION:„Ich bin (auch) ein Problem im Stadtbild!“ \n \nSonntag\, 19. Oktober um 17 Uhr\nFrankfurt auf den Liebfrauenberg! \nGemeinsam gegen Spaltung. \nWir zeigen: Frankfurt steht für Vielfalt\, Respekt und Zusammenhalt.
URL:https://mtk-gegen-rechts.de/event/ich-bin-auch-ein-problem-im-stadtbild-demo-in-frankfurt/
LOCATION:Frankfurt Liebfrauenberg
END:VEVENT
END:VCALENDAR