BEGIN:VCALENDAR
VERSION:2.0
PRODID:-//mtk gegen rechts - ECPv6.15.20//NONSGML v1.0//EN
CALSCALE:GREGORIAN
METHOD:PUBLISH
X-WR-CALNAME:mtk gegen rechts
X-ORIGINAL-URL:https://mtk-gegen-rechts.de
X-WR-CALDESC:Veranstaltungen für mtk gegen rechts
REFRESH-INTERVAL;VALUE=DURATION:PT1H
X-Robots-Tag:noindex
X-PUBLISHED-TTL:PT1H
BEGIN:VTIMEZONE
TZID:Europe/Berlin
BEGIN:DAYLIGHT
TZOFFSETFROM:+0100
TZOFFSETTO:+0200
TZNAME:CEST
DTSTART:20250330T010000
END:DAYLIGHT
BEGIN:STANDARD
TZOFFSETFROM:+0200
TZOFFSETTO:+0100
TZNAME:CET
DTSTART:20251026T010000
END:STANDARD
BEGIN:DAYLIGHT
TZOFFSETFROM:+0100
TZOFFSETTO:+0200
TZNAME:CEST
DTSTART:20260329T010000
END:DAYLIGHT
BEGIN:STANDARD
TZOFFSETFROM:+0200
TZOFFSETTO:+0100
TZNAME:CET
DTSTART:20261025T010000
END:STANDARD
BEGIN:DAYLIGHT
TZOFFSETFROM:+0100
TZOFFSETTO:+0200
TZNAME:CEST
DTSTART:20270328T010000
END:DAYLIGHT
BEGIN:STANDARD
TZOFFSETFROM:+0200
TZOFFSETTO:+0100
TZNAME:CET
DTSTART:20271031T010000
END:STANDARD
END:VTIMEZONE
BEGIN:VEVENT
DTSTART;TZID=Europe/Berlin:20260302T190000
DTEND;TZID=Europe/Berlin:20260302T210000
DTSTAMP:20260423T114117
CREATED:20260216T141904Z
LAST-MODIFIED:20260216T141904Z
UID:1653-1772478000-1772485200@mtk-gegen-rechts.de
SUMMARY:Solidarischer Raum: Klare Worte gegen Rechts
DESCRIPTION:Im nächsten Solidarischen Raum am Montag\, 2. März\, 19 Uhr\, geht es noch einmal um das Thema Argumentieren gegen Rechts im Wahlkampf. Nach dem kompakten Argumentationstraining Anfang Februar möchten wir uns über unsere Erfahrungen austauschen\, unter anderem an den Infoständen. \nDer Solidarische Raum ist ein offenes* Treffen für Austausch und Diskussion. Jeden ersten Montag im Monat (und manchmal auch zwischendurch) im Bürgerhaus Marxheim (Hintereingang / Jugendraum) \n* Personen\, die rechtsextremen Parteien oder Organisationen angehören\, der rechtsextremen Szene zuzuordnen sind oder bereits in der Vergangenheit durch rassistische\, antisemitische oder sonstige menschenverachtenden Äußerungen in Erscheinung getreten sind\, haben im Solidarischen Raum keinen Zutritt.
URL:https://mtk-gegen-rechts.de/event/solidarischer-raum-klare-worte-gegen-rechts/
LOCATION:Bürgerhaus Marxheim
END:VEVENT
BEGIN:VEVENT
DTSTART;TZID=Europe/Berlin:20260305T190000
DTEND;TZID=Europe/Berlin:20260305T210000
DTSTAMP:20260423T114117
CREATED:20260216T142200Z
LAST-MODIFIED:20260216T143243Z
UID:1655-1772737200-1772744400@mtk-gegen-rechts.de
SUMMARY:Gnadenlos Deutsch. Lesung mit Helmut Ortner – Schwalbach
DESCRIPTION:Gnadenlos Deutsch: Von der Gegenwart der Vergangenheit – Muss eine Demokratie ihre Feinde aushalten? \nLesung und Diskussion mit Helmut Ortner\,  \nDonnerstag\, 5. März\, 19:30 Uhr\,\nEv. Limesgemeinde Schwalbach\, Ostring 15\n\nVeranstalter: Gesellschaft für Christlich-Jüdische Zusammenarbeit im Main-Taunus-Kreis und Deutsch-Ausländische Gemeinschaft Schwalbach\, Eintritt frei\, um Spenden wird gebeten. \n 
URL:https://mtk-gegen-rechts.de/event/gnadenlos-deutsch-lesung-mit-helmut-ortner-schwalbach/
END:VEVENT
BEGIN:VEVENT
DTSTART;TZID=Europe/Berlin:20260306T133000
DTEND;TZID=Europe/Berlin:20260306T153000
DTSTAMP:20260423T114117
CREATED:20260130T204603Z
LAST-MODIFIED:20260130T204603Z
UID:1630-1772803800-1772811000@mtk-gegen-rechts.de
SUMMARY:Infotisch zur Kommunalwahl – Hattersheim
DESCRIPTION:In Hattersheim zeigt MTK gegen rechts auf dem Marktplatz Präsenz\nKommt vorbei und bringt euch ein! \nFreitag\, 06.03. – 13:30 bis 15:30 Marktplatz Hattersheim
URL:https://mtk-gegen-rechts.de/event/infotisch-zur-kommunalwahl-hattersheim-3/
END:VEVENT
BEGIN:VEVENT
DTSTART;TZID=Europe/Berlin:20260314T100000
DTEND;TZID=Europe/Berlin:20260314T120000
DTSTAMP:20260423T114117
CREATED:20260215T125201Z
LAST-MODIFIED:20260215T125449Z
UID:1644-1773482400-1773489600@mtk-gegen-rechts.de
SUMMARY:Demokratie verteidigen: Nein zur AfD in unseren kommunalen Parlamenten!
DESCRIPTION:Demokratie verteidigen: Kein Platz für die extreme Rechte in unseren kommunalen Parlamenten! \n14. März 2026\, 10 Uhr \nKundgebung in Hofheim\,\nLudwig-Meidner-Platz (vor dem Stadtmuseum) \nBei der Kommunalwahl tritt die AfD erstmals auch zum Hofheimer Stadtparlament an. Das lassen wir nicht unkommentiert und stellen gemeinsam klar: Hier ist kein Platz für Rechtsextremismus! Wir wollen eine demokratische und solidarische Gesellschaft für alle! \nDie AfD plakatiert diesmal moderate Slogans und versucht sich so als anschlussfähig zu tarnen. Doch an ihrem völkischen\, verfassungsfeindlichen und menschenverachtenden Markenkern ändert dieser leicht durchschaubare Versuch der Selbstverharmlosung nichts. Wir sagen: Rassismus\, Sexismus\, Queerfeindlichkeit und andere Formen von Diskriminierung sind keine Alternative für Deutschland und auch nicht für Hofheim und den MTK. \n  \n  \n  \n  \n 
URL:https://mtk-gegen-rechts.de/event/demokratie-verteidigen-nein-zur-afd-in-unseren-kommunalen-parlamenten/
LOCATION:Hofheim\, Ludwig-Meidner-Platz\, Ludwig-Meidner-Platz\, Hofheim\, 65719\, Germany
END:VEVENT
BEGIN:VEVENT
DTSTART;TZID=Europe/Berlin:20260316T190000
DTEND;TZID=Europe/Berlin:20260316T210000
DTSTAMP:20260423T114117
CREATED:20251125T142228Z
LAST-MODIFIED:20251125T142228Z
UID:1525-1773687600-1773694800@mtk-gegen-rechts.de
SUMMARY:Bündnistreffen / Plenum MTK gegen rechts
DESCRIPTION:Montag\, 16. März\, 19 Uhr\nOffenes Plenum / Bündnistreffen MTK gegen rechts. \nOrt bitte sicherheitshalber erfragen unter info@mtk-gegen-rechts.de
URL:https://mtk-gegen-rechts.de/event/buendnistreffen-plenum-mtk-gegen-rechts-3/
END:VEVENT
BEGIN:VEVENT
DTSTART;TZID=Europe/Berlin:20260323T190000
DTEND;TZID=Europe/Berlin:20260323T210000
DTSTAMP:20260423T114117
CREATED:20260216T142402Z
LAST-MODIFIED:20260216T142507Z
UID:1658-1774292400-1774299600@mtk-gegen-rechts.de
SUMMARY:Gelungene Aufarbeitung? Der Frankfurter Auschwitzprozess 1963 - 1965 – Kriftel
DESCRIPTION:Mit Peter Kalb und Dieter Wesp \n23. März 2026\, Gemeindehaus St. Vitus – 19.00 Uhr\nKapellenstraße 1\, Kriftel \nDer von Fritz Bauer initiierte Frankfurter Auschwitzprozess dauerte zwanzig Monate und endete mit der Verkündung der Urteile gegen 20 Angeklagte im August 1965. Es wurden 359 Zeugen befragt. Peter Kalb\, damals junger Student\, war Zeugenbetreuer in diesem Prozess\, ein Erlebnis\, dass sein Leben nachhaltig veränderte. Gemeinsam mit Dieter Wesp vom Förderverein des Fritz Bauer Instituts wird die Geschichte des Prozesses in Bild und Ton dargestellt\, und Peter Kalb wird über seine Erinnerungen berichten. \nIm Anschluss gibt es die Möglichkeit\, Fragen zu stellen und ins Gespräch mit Herrn Kalb zu kommen. Ziel der Veranstaltung ist eine Annäherung an die damaligen Geschehnisse und einen Austausch über mehrere Generationen. \nEine Veranstaltung der Katholischen Erwachsenenbildung Main-Taunus\, der Gesellschaft für Christlich-Jüdische Zusammenarbeit im Main-Taunus-Kreis und des Fördervereins Fritz Bauer Institut
URL:https://mtk-gegen-rechts.de/event/gelungene-aufarbeitung-der-frankfurter-auschwitzprozess-1963-1965/
END:VEVENT
BEGIN:VEVENT
DTSTART;TZID=Europe/Berlin:20260326T170000
DTEND;TZID=Europe/Berlin:20260326T190000
DTSTAMP:20260423T114117
CREATED:20260216T142631Z
LAST-MODIFIED:20260216T142650Z
UID:1661-1774544400-1774551600@mtk-gegen-rechts.de
SUMMARY:Erinnerung an die Morde im Eichwald\, Gedenkwanderung\, Schwalbach
DESCRIPTION:Erinnerung an die Morde im Eichwald\, Gedenkwanderung\,\nDonnerstag\, 26. März\, 17 Uhr\, Schwalbach\,\nStadtinsel bei der Geschwister-Scholl-Schule\n\nAn diesem Tag jährt sich zum 81. Mal die verbrecherische Hinrichtung von zwei entlassenen Wehrmachtsoldaten\, die kurz vor Ende des Weltkriegs als Deserteure im Eichwald zwischen Bad Soden\, Schwalbach und Sulzbach erschossen wurden.
URL:https://mtk-gegen-rechts.de/event/erinnerung-an-die-morde-im-eichwald-gedenkwanderung-schwalbach/
END:VEVENT
BEGIN:VEVENT
DTSTART;VALUE=DATE:20260328
DTEND;VALUE=DATE:20260329
DTSTAMP:20260423T114117
CREATED:20260216T143001Z
LAST-MODIFIED:20260216T143102Z
UID:1663-1774656000-1774742399@mtk-gegen-rechts.de
SUMMARY:Protest gegen den AfD-Jugendverband Hessen – Fulda-Johannesberg
DESCRIPTION:SAVE THE DATE! \nProtest gegen die geplante Gründung des Landesverbands Hessen der AfD-Jugendorganisation „Generation Deutschland“\, \nSamstag\, 28. März\, Fulda-Johannesberg \n„Fulda stellt sich quer“ plant Aktionen.\nhttps://www.hessenschau.de/
URL:https://mtk-gegen-rechts.de/event/protest-gegen-den-afd-jugendverband-hessen-fulda-johannesberg/
END:VEVENT
END:VCALENDAR